BEGIN:VCALENDAR
VERSION:2.0
PRODID:-//IP.Board Calendar 4.5.4//EN
METHOD:PUBLISH
CALSCALE:GREGORIAN
BEGIN:VTIMEZONE
TZID:Europe/London
TZURL:http://tzurl.org/zoneinfo/Europe/London
X-LIC-LOCATION:Europe/London
BEGIN:DAYLIGHT
TZOFFSETFROM:+0000
TZOFFSETTO:+0100
TZNAME:BST
DTSTART:20200329T020000Z
RRULE:FREQ=YEARLY;BYMONTH=3;BYDAY=-1SU
END:DAYLIGHT
BEGIN:STANDARD
TZOFFSETFROM:+0100
TZOFFSETTO:+0000
TZNAME:GMT
DTSTART:20201025T020000Z
RRULE:FREQ=YEARLY;BYMONTH=10;BYDAY=-1SU
END:STANDARD
END:VTIMEZONE
BEGIN:VEVENT
SUMMARY:Lubbock\, Texas Meet & Greet
DTSTAMP:20200911T010130Z
SEQUENCE:0
UID:253-250-fe5d9c6f9f68e8123e9dcb41013fa255@www.mymilitia.com
ORGANIZER;CN="Champagne":mail@mymilitia.com
DESCRIPTION:\n	Meet &amp\; Greet\n\n\n\n	 \n\n\n\n	A chance for members
	 to meet!\n\n\n\n	 \n\n\n\n	09/12/2020\n\n\n\n	806 Militia\n\n\n\n	10:00a
	m\n\n\n\n	5844 49th St. #1\n\n\n\n	!! Free Coffee !!\n\n\n\n	 \n\n\n\n	*M
	ember Introduction\n\n\n\n	*Info Exchange\n\n\n\n	Discussion:\n\n\n\n	Soci
	al Political Climate\n\n\n\n	Potential Training Locations\n\n\n\n	Combat R
	eadiness\n\n\n\n	Resource Readiness\n\n\n\n	Emergency Regroup Locations\n\
	n\n\n	etc.\n
DTSTART:20200912T150000Z
END:VEVENT
END:VCALENDAR
