BEGIN:VCALENDAR
VERSION:2.0
PRODID:-//IP.Board Calendar 4.5.4//EN
METHOD:PUBLISH
CALSCALE:GREGORIAN
X-WR-CALNAME:Community Calendar
BEGIN:VTIMEZONE
TZID:Europe/London
TZURL:http://tzurl.org/zoneinfo/Europe/London
X-LIC-LOCATION:Europe/London
BEGIN:DAYLIGHT
TZOFFSETFROM:+0000
TZOFFSETTO:+0100
TZNAME:BST
DTSTART:20180325T020000Z
RRULE:FREQ=YEARLY;BYMONTH=3;BYDAY=-1SU
END:DAYLIGHT
BEGIN:STANDARD
TZOFFSETFROM:+0100
TZOFFSETTO:+0000
TZNAME:GMT
DTSTART:20181028T020000Z
RRULE:FREQ=YEARLY;BYMONTH=10;BYDAY=-1SU
END:STANDARD
END:VTIMEZONE
BEGIN:VEVENT
SUMMARY:World Create Day 2018
DTSTAMP:20180311T204507Z
SEQUENCE:0
UID:1-1-fe5d9c6f9f68e8123e9dcb41013fa255@www.mymilitia.com
ORGANIZER;CN="J Morris":mail@mymilitia.com
DESCRIPTION:\n\n	World Create Day 2018\n\n\n\n	Join us to lead a Hackada
	y meetup in your town\, city\, hackerspace\, or garage!\n\n\n\n	\n		\n			\
	n		Saturday\, March 17\, 2018 11:59 am PDT  \n	\n\n	\n		\n\n	\n		Everywher
	e Link to your local Event! https://hackaday.io/event/52676-world-create-d
	ay-2018?mc_cid=937fe676c5&amp\;mc_eid=ddddb23cc6\n	\n\n	\n		Event Details\
	n	\n\n	\n		Lead a Hackaday Meetup in your city on March 17th! \n	\n\n	\n	
		On Hackaday's Annual World Create Day\, we join our community of local Ha
	ckaday meetups around the world to collaborate on projects for social chan
	ge. \n	\n\n	\n		See our worldwide map of meetups near you!\n	\n\n	\n		Fil
	l out this form to let us know that you’re interested in leading: Apply
	 to lead a Meetup!\n	\n\n	\n		DETAILS\n	\n\n	\n		See our worldwide map of 
	events and attend one in your area. If there isn't one near you\, sign up
	 to host -- it's easy!\n	\n\n	\n		Hackaday World Create Day on March 17\, 
	2018\n	\n\n	\n		World Create Day lays down a design challenge. The people
	 at your meetup will pick a technology challenge and brainstorm a solution
	 for it. Leverage the skills of everyone involved to come up with mechanic
	al\, electrical\, and design solutions. \n	\n\n	\n		This is what the Hac
	kaday Prize is all about and what you come up with on World Create Day sh
	ould be entered in the first challenge.  \n	\n\n	\n		We want to see all
	 of your pictures and videos! We want to hear about the interesting build 
	ideas that sprouted from your group. We’ll be picking the most spectacul
	ar design solutions to share on the Hackaday front page\, and there will b
	e prizes. We also want to celebrate the fun of getting together in person 
	with all of the people who make Hackaday a part of their daily ritual. \n
		\n\n	\n		You can watch what is going on all over the world here: http://
	worldcreateday2018.tweetwally.com/\n	\n\n	\n		If you want to share what's 
	happening at your event\, the hashtag is #WorldCreateDay\n	\n\n\n\n
DTSTART;VALUE=DATE:20180317
ATTENDEE;CN="J Morris";CUTYPE=INDIVIDUAL;PARTSTAT=ACCEPTED:m
	ail@mymilitia.com
END:VEVENT
END:VCALENDAR
