BEGIN:VCALENDAR
VERSION:2.0
PRODID:-//IP.Board Calendar 4.5.4//EN
METHOD:PUBLISH
CALSCALE:GREGORIAN
X-WR-CALNAME:Community Calendar
BEGIN:VTIMEZONE
TZID:Europe/London
TZURL:http://tzurl.org/zoneinfo/Europe/London
X-LIC-LOCATION:Europe/London
BEGIN:DAYLIGHT
TZOFFSETFROM:+0000
TZOFFSETTO:+0100
TZNAME:BST
DTSTART:20190331T020000Z
RRULE:FREQ=YEARLY;BYMONTH=3;BYDAY=-1SU
END:DAYLIGHT
BEGIN:STANDARD
TZOFFSETFROM:+0100
TZOFFSETTO:+0000
TZNAME:GMT
DTSTART:20191027T020000Z
RRULE:FREQ=YEARLY;BYMONTH=10;BYDAY=-1SU
END:STANDARD
END:VTIMEZONE
BEGIN:VEVENT
SUMMARY:2-Gun Competition Houston\, Tx
DTSTAMP:20190723T181519Z
SEQUENCE:0
UID:105-1-fe5d9c6f9f68e8123e9dcb41013fa255@www.mymilitia.com
ORGANIZER;CN="Guest":mail@mymilit
	ia.com
DESCRIPTION:\n\n	Richmond Tactical will be sponsoring a 2-gun event in F
	ulshear\, Tx on September 14\, 2019. This will be a carbine/pistol competi
	tion only\, no shotgun stages. Located just West of Houston\, Tx is Brazos
	 River Sportsman Club\, 3525 Bowser Rd. Fulshear\, Tx 77441.\n\n\n	Richmon
	d Tactical is a FFL/SOT located in Brookshire\, Tx. We currently manufactu
	re rifle and pistol suppressors\, integrally suppressed rifles\, and AR pl
	atform rifles. We do our own in house machine work and cut our own uppers 
	and lowers to maximize quality and fit. We also offer in house Cerakote fo
	r any platform or part. We will start sales of suppressors\, uppers\, lowe
	rs\, complete custom rifles\, etc. in early August. With over a year of te
	sting and evaluation\, we are confident that our designs can stand up to t
	he test. Richmond Tactical will be hosting a demonstration at the event fo
	r anyone who'd like to stop in and see our products.\n\n\n	This in an inau
	gural event\, and will be held quarterly. This first event will be unaffil
	iated with other organizations\, but future events will be. We encourage n
	ew shooters to sign up\, as well as seasoned competitors. There will be pr
	izes awarded\, currently the prize table is TBD\, but expected to include 
	a 16\" Richmond Tactical AR-15\, Cerakote jobs\, and more.\n\n\n	Registrat
	ion will open by Aug 12\, will update asap.\n\n\n\n	 \n\n\n\n	Find us on 
	Facebook!\n\n\n	To purchase tickets\, go to https://richmondtactical.com/\
	n\n\n	To register on practiscore follow this link:\nhttps://practiscore.co
	m/richmond-tactical-2-gun/register\n\n\n	Will run a Factory class\, Open c
	lass\, and Ladies class.\n\n	6-8 stages will be ran\, included transition 
	between rifle and pistol.\n\n	Longest rifle shot will be 100-150yds.\n\n	N
	o green tip or steel core .223 ammo allowed.\n\n	Lunch provided for compet
	itors\, available for purchase for observers.\n\n	No slings needed.\n\n	Ro
	und count should be around 150 rifle and 100 pistol. Recommended to bring 
	extra.\n\n	Bring\, at minimum\, 3 magazines for each gun.\n\n	Stages will 
	be posted prior to event.\n\n	This will be a lost brass match.\n\n	Match i
	s rain or shine.\n\n	Safety brief at 08:30am\, hammer down at 09:00am.\n\n
		If you miss the brief\, you will not be allowed to shoot.\n\n\n	Recommend
	ed gear-\n\n	Sturdy holster.\n\n	Means of holding additional magazines (po
	cket carry of magazines will be allowed).\n\n	Eye and Ear pro is REQUIRED.
	\n\n\n	More info and updates to come as the date nears. I hope to see you 
	out there!\n\n\n	Thanks!\n\n	Any questions please email me at sean@richmon
	dtactical.com\n\n\n
DTSTART;VALUE=DATE:20190914
END:VEVENT
END:VCALENDAR
