BEGIN:VCALENDAR
VERSION:2.0
PRODID:-//IP.Board Calendar 4.5.4//EN
METHOD:PUBLISH
CALSCALE:GREGORIAN
X-WR-CALNAME:Community Calendar
BEGIN:VTIMEZONE
TZID:Europe/London
TZURL:http://tzurl.org/zoneinfo/Europe/London
X-LIC-LOCATION:Europe/London
BEGIN:DAYLIGHT
TZOFFSETFROM:+0000
TZOFFSETTO:+0100
TZNAME:BST
DTSTART:20190331T020000Z
RRULE:FREQ=YEARLY;BYMONTH=3;BYDAY=-1SU
END:DAYLIGHT
BEGIN:STANDARD
TZOFFSETFROM:+0100
TZOFFSETTO:+0000
TZNAME:GMT
DTSTART:20191027T020000Z
RRULE:FREQ=YEARLY;BYMONTH=10;BYDAY=-1SU
END:STANDARD
END:VTIMEZONE
BEGIN:VEVENT
SUMMARY:Kentucky FTX
DTSTAMP:20190801T184756Z
SEQUENCE:0
UID:106-1-fe5d9c6f9f68e8123e9dcb41013fa255@www.mymilitia.com
ORGANIZER;CN="Chris Daniels":mail@mymilitia.com
DESCRIPTION:\n	FTX Overnight camping available. Location to be posted pr
	ior to event.\n
DTSTART;VALUE=DATE:20190824
DTEND;VALUE=DATE:20190826
ATTENDEE;CN="Chris Daniels";CUTYPE=INDIVIDUAL;PARTSTAT=ACCEP
	TED:mail@mymilitia.com
END:VEVENT
END:VCALENDAR
