BEGIN:VCALENDAR
VERSION:2.0
PRODID:-//IP.Board Calendar 4.5.4//EN
METHOD:PUBLISH
CALSCALE:GREGORIAN
X-WR-CALNAME:Community Calendar
BEGIN:VTIMEZONE
TZID:Europe/London
TZURL:http://tzurl.org/zoneinfo/Europe/London
X-LIC-LOCATION:Europe/London
BEGIN:DAYLIGHT
TZOFFSETFROM:+0000
TZOFFSETTO:+0100
TZNAME:BST
DTSTART:20190331T020000Z
RRULE:FREQ=YEARLY;BYMONTH=3;BYDAY=-1SU
END:DAYLIGHT
BEGIN:STANDARD
TZOFFSETFROM:+0100
TZOFFSETTO:+0000
TZNAME:GMT
DTSTART:20191027T020000Z
RRULE:FREQ=YEARLY;BYMONTH=10;BYDAY=-1SU
END:STANDARD
END:VTIMEZONE
BEGIN:VEVENT
SUMMARY:ACT Rally - Austin\, Texas
DTSTAMP:20190822T174813Z
SEQUENCE:0
UID:118-1-fe5d9c6f9f68e8123e9dcb41013fa255@www.mymilitia.com
ORGANIZER;CN="I3DI":mail@mymilitia.com
DESCRIPTION:\n\n	America is united under President Trump and we are Maki
	ng America Great Again thru our choices.  However\, the time has come for
	 the people to act.  As Trump has stated\, America is a nation of laws. 
	 Law was the bedrock fundamental of our nation and the Constitution a mira
	cle in it's own right.  In the last four years\, we have witnessed the tr
	uth\, watched in horror as we see the Federal Government has been compromi
	sed to such extremes that it is paralyzed from within.  We have watched t
	estimony and witnessed as people came forward and more are coming that in 
	2016 the leaders\, who have sold us out to china\, exported our jobs\, mis
	calculated and Donald Trump\, a man of courage\, not perfect but courageou
	s stood up and got in the gap between them and us.  These people redouble
	d their effort and in 2018 they didn't miss a step.  Governor races were 
	overturned thru election theft\, House Seats stolen and now\, Judges paid 
	off to block his every move and keep the border open.  Orders to those ad
	ministrating the release of those that cross our border to give preference
	 to criminals\, violent offenders\, those with mumps\, measles\, and vario
	us plagues transported and released into our general population by prefere
	nce.  A paramilitary force in our boundaries appearing\, throwing acid on
	 Christians\, Conservatives\, Trump Supporters\, wearing uniforms\, utiliz
	ing combat tactics.  Where are the police?  Where are the indictments? 
	 Where is the money coming from?  Various leaders praising this force for
	 their actions stating \"It may be illegal but it is moral.\"  The major 
	question on peoples minds is\, how do we stop this?  What is the red line
	 when we must act?  How do we get our laws and systems operating again an
	d ensure our election integrity?\n\n\n\n	 \n\n\n\n	Join us as we delve in
	to the legal issues with various legal experts\, combat veterans\, and def
	ine the red line.  We will make the case that our basic documents make it
	 clear\, the people are responsible for change\, not the government.  We 
	will define the red line as election theft in mass\, taking the right of t
	he people to choose who governs and therefor our laws can no longer be gua
	ranteed as the authentic will of the people.  The case will be made and e
	vidence submitted that when election theft in mass occurred\, this was the
	 installation of a fiat government over the elected government which is a 
	declaration of war\, and constitutes treason.  As we ask the question\, \
	"Why have those un-elected\, and those that have violated their oath by in
	citing civil violence not been removed?\" \n\n\n\n	 \n\n\n\n	The goal is
	 to come together in agreement that it is time for the people to act and t
	hat the government has been operating to wrap up any and all action to sto
	p it and that in one voice we must agree to ACT.  Join us as we delve int
	o the Supreme Court\, the men who worked together to create the compromise
	 and mute our system of laws\, our defenses with unconstitutional rulings\
	, levying unjust burdens\, and creating a system of oppression and lawless
	ness\, and make the case that the defense of the people was never intended
	 to be activated by a President who is government but by the people of the
	 state to which a Militia belongs and begin to agree to organize our Milit
	ias with a plan and in unification\, under one flag\, in complete agreemen
	t release the fear and be willing to pay whatever price to win our nation 
	back and begin healing the mental illness that is plaguing so many and rem
	ove the bonds of fear.  For many years\, Americans have talked\, but ther
	e has been no action because we understand\, we may pay with our homes\, j
	obs\, house\, car\, luxuries\, and even our lives but when we come togethe
	r and we pay those prices together it becomes a burden we share and fear i
	s turned to courage in numbers\, the talking stops and action begins.\n\n\
	n\n	 \n\n\n\n	We will gain majority consent thru signatures to activate t
	he state militia and present the plan to shut down the border and take the
	 option out of the government's hands.  It is the people that make this c
	hoice and at the end of this convention\, no longer will we be divided\, s
	ilenced\, just typing our opinions on social media\, or talking to our gra
	ves\, we will be unified as Americans\, brothers and sisters\, who bleed r
	ed\, and who's heart beats for true freedom.  As we see the masses in agr
	eement and sign together\, no longer will it be one person alone\, speakin
	g in the halls of the divided\, but one chorus and one voice\, acting to h
	old our government accountable and we will break this divide and Conquer s
	trategy that has been employed and put fear in the heart of the enemy in o
	ur gates.  Do you have the Courage to ACT?  Change comes when we ACT tog
	ether.\n\n\n\n	 \n\n\n\n	A website will be put up in the near future and 
	donations taken for the event.  A location will be decided and is pending
	 in Austin.  Begin talking and spreading the word.  All Militias and all
	 the people of the great state of Texas are invited and encouraged to come
	.  As always I expect Texas to be the first\, the lone star in our countr
	y\, to set the stage for the second greatest change in our nations history
	 and shine thru as a example to the world of our love and willingness to f
	ight for our freedom and lay down our lives to keep it.\n\n
DTSTART:20191206T160000Z
DTEND:20191209T000000Z
END:VEVENT
END:VCALENDAR
