BEGIN:VCALENDAR
VERSION:2.0
PRODID:-//IP.Board Calendar 4.5.4//EN
METHOD:PUBLISH
CALSCALE:GREGORIAN
X-WR-CALNAME:Community Calendar
BEGIN:VTIMEZONE
TZID:Europe/London
TZURL:http://tzurl.org/zoneinfo/Europe/London
X-LIC-LOCATION:Europe/London
BEGIN:DAYLIGHT
TZOFFSETFROM:+0000
TZOFFSETTO:+0100
TZNAME:BST
DTSTART:20190331T020000Z
RRULE:FREQ=YEARLY;BYMONTH=3;BYDAY=-1SU
END:DAYLIGHT
BEGIN:STANDARD
TZOFFSETFROM:+0100
TZOFFSETTO:+0000
TZNAME:GMT
DTSTART:20191027T020000Z
RRULE:FREQ=YEARLY;BYMONTH=10;BYDAY=-1SU
END:STANDARD
END:VTIMEZONE
BEGIN:VEVENT
SUMMARY:Texas State Militia : Houston - New Member Meeting
DTSTAMP:20190827T203325Z
SEQUENCE:0
UID:119-1-fe5d9c6f9f68e8123e9dcb41013fa255@www.mymilitia.com
ORGANIZER;CN="Guest":mail@mymilit
	ia.com
DESCRIPTION:Brotherhood begins here with good food\, good stories\, and 
	like-minded purpose. \n\n\nNew members and old are invited to come Wednesd
	ay\, Dec 18st to Spring Creek Barbecue for a chance to meet with TSM Houst
	on command staff and eat BBQ. \n\n\nAt this relaxed event\, new members wi
	ll officially report present\, hear TSM's mission statement\, policies and
	 training schedule\, as well as meet the group.\n\n\nCurrent Members can l
	ook forward toPatching and Rank Ceremonies if they are qualified.
DTSTART:20191219T010000Z
DTEND:20191219T030000Z
END:VEVENT
END:VCALENDAR
