BEGIN:VCALENDAR
VERSION:2.0
PRODID:-//IP.Board Calendar 4.5.4//EN
METHOD:PUBLISH
CALSCALE:GREGORIAN
X-WR-CALNAME:Community Calendar
BEGIN:VTIMEZONE
TZID:Europe/London
TZURL:http://tzurl.org/zoneinfo/Europe/London
X-LIC-LOCATION:Europe/London
BEGIN:DAYLIGHT
TZOFFSETFROM:+0000
TZOFFSETTO:+0100
TZNAME:BST
DTSTART:20190331T020000Z
RRULE:FREQ=YEARLY;BYMONTH=3;BYDAY=-1SU
END:DAYLIGHT
BEGIN:STANDARD
TZOFFSETFROM:+0100
TZOFFSETTO:+0000
TZNAME:GMT
DTSTART:20191027T020000Z
RRULE:FREQ=YEARLY;BYMONTH=10;BYDAY=-1SU
END:STANDARD
END:VTIMEZONE
BEGIN:VEVENT
SUMMARY:Declaration of Restoration
DTSTAMP:20191003T014349Z
SEQUENCE:0
UID:126-1-fe5d9c6f9f68e8123e9dcb41013fa255@www.mymilitia.com
ORGANIZER;CN="Michael Potter":mail@mymilitia.com
DESCRIPTION:\n\n	\n\n\n\n	We are rallying all Patriots\, Militia Groups\
	, III%ers\, Oath Keepers\, Believers in the US Constitution\, and above al
	l else Americans to participate in an event being held Nov 9th 2019 on the
	 DC / VA line. The event is being held so that All American’s voices wil
	l be heard by those bodies of US Government that deem it necessary to take
	 away our God given Rights and Liberties that are protected by the very do
	cument they seek to destroy. But in order for those individual’s voices 
	to be heard they must be protected to the very best of our ability. We ask
	 for your help in securing the First Amendment rights of those individuals
	 that are here to be a part of that movement.\n\n\n\n	 \n\n\n\n	Many Patr
	iot groups are tasked to provide the security necessary to keep the event 
	from spiraling out of control. We will provide a perimeter around the main
	 event and patrol within the main event to provide a buffer for any confro
	ntation that may occur.\n\n\n\n	 \n\n\n\n	Since the day that we all reali
	zed that we were patriots and decided to stand up for something bigger tha
	n ourselves\, we shouldered the responsibility of protecting those that fe
	ll under the protection of the United States Constitution. All Americans f
	all under that protection. And now is your chance to stand with us\, accep
	t that responsibility\, and be the protection in a time of need. \n\n\n\n
		 \n\n\n\n	To make contact and be apart of the security operations on Nov
	 9th\, please reach out to Gary Sigler: GSIG1371@protonmail.com : Head of 
	Security \n\n\n\n	 \n\n\n\n	Or John Cody : Hawkeyesclightfoot@protonmail
	.com : 2IC Security\n\n\n\n	 \n\n\n\n	Or Find us on Facebook: https://www
	.facebook.com/groups/679032962598242/?multi_permalinks=705505893284282&amp
	\;notif_id=1569866225963299&amp\;notif_t=group_highlights&amp\;ref=notif\n
	\n\n\n	 \n\n\n\n	Thank You!\n\n
DTSTART:20191109T140000Z
DTEND:20191109T220000Z
END:VEVENT
END:VCALENDAR
