BEGIN:VCALENDAR
VERSION:2.0
PRODID:-//IP.Board Calendar 4.5.4//EN
METHOD:PUBLISH
CALSCALE:GREGORIAN
X-WR-CALNAME:Community Calendar
BEGIN:VTIMEZONE
TZID:Europe/London
TZURL:http://tzurl.org/zoneinfo/Europe/London
X-LIC-LOCATION:Europe/London
BEGIN:DAYLIGHT
TZOFFSETFROM:+0000
TZOFFSETTO:+0100
TZNAME:BST
DTSTART:20190331T020000Z
RRULE:FREQ=YEARLY;BYMONTH=3;BYDAY=-1SU
END:DAYLIGHT
BEGIN:STANDARD
TZOFFSETFROM:+0100
TZOFFSETTO:+0000
TZNAME:GMT
DTSTART:20191027T020000Z
RRULE:FREQ=YEARLY;BYMONTH=10;BYDAY=-1SU
END:STANDARD
END:VTIMEZONE
BEGIN:VEVENT
SUMMARY:Open Training Event\, Mesick\, MI
DTSTAMP:20191004T003040Z
SEQUENCE:0
UID:128-1-fe5d9c6f9f68e8123e9dcb41013fa255@www.mymilitia.com
ORGANIZER;CN="Swamp Fox":mail@mymilitia.com
DESCRIPTION:\n\n	The Michigan Civil Defense Force is sponsoring a traini
	ng event.  Wear what you want but preferred uniform and load bearing equi
	pment.  No weapons.  This will be outdoors.\n\n\n\n	 \n\n\n\n	Here is a
	 list of classes that we will be conducting Oct 19 as time allow.\n\n\n\n	
	 \n\n\n\n	Basic Military Communications. I will provide laminated handout
	s.\n\n\n\n	 \n\n\n\n	Map Reading. We will use the GTA 5-2-13 Don't Get Lo
	st. I will provide a print out section of the topo map of Mesick. I will h
	ave several protractors for use and several Army compasses.\n\n\n\n	 \n\n
	\n\n	First Aid.\n\n\n\n	*Evaluate a casualty\n\n\n\n	Open an airway\n\n\n\
	n	Airway obstructions\n\n\n\n	Open Chest Wound\n\n\n\n	*Bleeding of an Ext
	remity\n\n\n\n	Burns\n\n\n\n	Prevent or control Shock\n\n\n\n	Splint\n\n\n
	\n	Rescue Breathing\n\n\n\n	Chest Compressions\n\n\n\n	Head Injuries\n\n\n
	\n	Abdominal Injuries\n\n\n\n	Impalement Injuries\n\n\n\n	*Apply a bandage
	\n\n\n\n	Apply a sling\n\n\n\n	*Transport a Casualty\n\n\n\n	 \n\n\n\n	 
	\n\n\n\n	Tactical.\n\n\n\n	*Move as a member of a fire team\n\n\n\n	*Move 
	under direct fire\n\n\n\n	Move over\, through\, or around Obstacles\n\n\n\
	n	React to Indirect fire while dismounted\n\n\n\n	React to flares\n\n\n\n	
	Select temporary fighting positions\n\n\n\n	 \n\n\n\n	* means these class
	es have the priority. Depending on time additional classes can be taught o
	r we can go through previous classes to improve proficiency.\n\n\n\n	 \n\
	n\n\n	Contact francis marion on facebook or francis.marion@yahoo.com\n\n\n
	\n	TC_2126_Dont_Get_Lost_How_to_Travel_in_the_Best_Circles_in_a_Square_Wor
	ld.pdf\n\n
DTSTART:20191019T160000Z
END:VEVENT
END:VCALENDAR
