BEGIN:VCALENDAR
VERSION:2.0
PRODID:-//IP.Board Calendar 4.5.4//EN
METHOD:PUBLISH
CALSCALE:GREGORIAN
X-WR-CALNAME:Community Calendar
BEGIN:VTIMEZONE
TZID:Europe/London
TZURL:http://tzurl.org/zoneinfo/Europe/London
X-LIC-LOCATION:Europe/London
BEGIN:DAYLIGHT
TZOFFSETFROM:+0000
TZOFFSETTO:+0100
TZNAME:BST
DTSTART:20180325T020000Z
RRULE:FREQ=YEARLY;BYMONTH=3;BYDAY=-1SU
END:DAYLIGHT
BEGIN:STANDARD
TZOFFSETFROM:+0100
TZOFFSETTO:+0000
TZNAME:GMT
DTSTART:20181028T020000Z
RRULE:FREQ=YEARLY;BYMONTH=10;BYDAY=-1SU
END:STANDARD
END:VTIMEZONE
BEGIN:VEVENT
SUMMARY:Americans for America - Indiana\, PRO 2ND AMENDMENT RALLY
DTSTAMP:20180413T224253Z
SEQUENCE:0
UID:13-1-fe5d9c6f9f68e8123e9dcb41013fa255@www.mymilitia.com
ORGANIZER;CN="LetFreedomRing":mail@mymilitia.com
DESCRIPTION:\n\n	At the Indiana State Capitol\, Indianapolis IN\n\n\n\n	
	 \n\n\n\n	Pro 2nd Amendment rally in all 50 states to tell the government
	 ENOUGH!This event is scheduled nationally for 2 hours. However\, we have 
	a longer event planned for those who wish to stay. Showing up by 1:30 is i
	deal\, so that everyone is ready to start at 2pm. Speaker line- up is as f
	ollows (for now!):Host Jessica Ann. will be giving the NCCPA speech as wel
	l as introducing the event co-hosts. Co-Host Jack Pupillo will then speak
	. State Senator Jack Sandlin (R S.36)State Representative Jim Lucas (R - 
	H.69)\; Tami Watson (NRA instructor\, Pro 2A public speaker\, prior ISP\,
	 running for Bartholomew County Sheriff 2018). Ryan Secord\; State Repre
	sentative Jim Baird (R H.44\, Candidate for U.S. Representative IN-4)\; J
	im Grimes (Marion County Sheriff Deputy\, Candidate Marion County Sheriff)
	\;Joe Haney (13C)\;And possibly more!!Special pre-recorded speeches for ou
	r event from: KRISANNE HALL!!!! And Sheriff BRADLEY ROGERS!! (Sheriff\, E
	lkhart County)Co-Host Bill Slike III will then conclude the planned speake
	rs and do speech / wrap up.We then plan to march around the Capitol with f
	lags and signs flying! At 5 GUY RELFORD (The Gun Guy Show on WIBC\, and NR
	ATV) will be broadcasting his show directly to / for the rally.There will 
	be MANY large groups in attendance. If you want your group added for this 
	contact the host as well. The 2nd Amendment Riders will have a table set u
	p\, as well as our table that will have event t-shirts. There are a lot mo
	re groups and speakers adding on daily and will be added as the event gets
	 closer. Private security is well covered and will be on site.Please see t
	he PINNED POST at the top of the discussion section for more frequently as
	ked questions\, added event details such as carrying firearms\, dress\, pa
	rking\, and exact event gathering info. We will be adding updated informat
	ion to this post and in the discussion area as it is available and questio
	ns are asked. Please remember to NOT step foot on actual state grounds whi
	le armed (at all\, this is a felony)\; and the national organization has g
	enerally asked to carry with an empty mag well if you are open carrying a 
	long gun.Please keep sharing\, so the numbers rise! We need as many patrio
	ts as possible to attend.Thank You All!!\n\n
DTSTART:20180414T180000Z
DTEND:20180414T220000Z
END:VEVENT
END:VCALENDAR
