BEGIN:VCALENDAR
VERSION:2.0
PRODID:-//IP.Board Calendar 4.5.4//EN
METHOD:PUBLISH
CALSCALE:GREGORIAN
X-WR-CALNAME:Community Calendar
BEGIN:VTIMEZONE
TZID:Europe/London
TZURL:http://tzurl.org/zoneinfo/Europe/London
X-LIC-LOCATION:Europe/London
BEGIN:DAYLIGHT
TZOFFSETFROM:+0000
TZOFFSETTO:+0100
TZNAME:BST
DTSTART:20190331T020000Z
RRULE:FREQ=YEARLY;BYMONTH=3;BYDAY=-1SU
END:DAYLIGHT
BEGIN:STANDARD
TZOFFSETFROM:+0100
TZOFFSETTO:+0000
TZNAME:GMT
DTSTART:20191027T020000Z
RRULE:FREQ=YEARLY;BYMONTH=10;BYDAY=-1SU
END:STANDARD
END:VTIMEZONE
BEGIN:VEVENT
SUMMARY:4th Bn meeting/training
DTSTAMP:20191028T143012Z
SEQUENCE:0
UID:131-1-fe5d9c6f9f68e8123e9dcb41013fa255@www.mymilitia.com
ORGANIZER;CN="Rkak25":mail@mymilitia.com
DESCRIPTION:\n	Bring books and be ready to learn about battle drill and 
	land navigation (time permitting).\n
DTSTART:20191109T060000Z
DTEND:20191109T080000Z
ATTENDEE;CN="Rkak25";CUTYPE=INDIVIDUAL;PARTSTAT=ACCEPTED:mai
	l@mymilitia.com
ATTENDEE;CN="Goat";CUTYPE=INDIVIDUAL;PARTSTAT=ACCEPTED:mail@
	mymilitia.com
ATTENDEE;CN="Shawn Ross";CUTYPE=INDIVIDUAL;PARTSTAT=ACCEPTED
	:mail@mymilitia.com
ATTENDEE;CN="Austin Lee";CUTYPE=INDIVIDUAL;PARTSTAT=ACCEPTED
	:mail@mymilitia.com
ATTENDEE;CN="Plank";CUTYPE=INDIVIDUAL;PARTSTAT=ACCEPTED:mail
	@mymilitia.com
END:VEVENT
END:VCALENDAR
