BEGIN:VCALENDAR
VERSION:2.0
PRODID:-//IP.Board Calendar 4.5.4//EN
METHOD:PUBLISH
CALSCALE:GREGORIAN
X-WR-CALNAME:Community Calendar
BEGIN:VTIMEZONE
TZID:Europe/London
TZURL:http://tzurl.org/zoneinfo/Europe/London
X-LIC-LOCATION:Europe/London
BEGIN:DAYLIGHT
TZOFFSETFROM:+0000
TZOFFSETTO:+0100
TZNAME:BST
DTSTART:20190331T020000Z
RRULE:FREQ=YEARLY;BYMONTH=3;BYDAY=-1SU
END:DAYLIGHT
BEGIN:STANDARD
TZOFFSETFROM:+0100
TZOFFSETTO:+0000
TZNAME:GMT
DTSTART:20191027T020000Z
RRULE:FREQ=YEARLY;BYMONTH=10;BYDAY=-1SU
END:STANDARD
END:VTIMEZONE
BEGIN:VEVENT
SUMMARY:Open Training Event\, Manton\, MI
DTSTAMP:20191030T101544Z
SEQUENCE:0
UID:132-1-fe5d9c6f9f68e8123e9dcb41013fa255@www.mymilitia.com
ORGANIZER;CN="Swamp Fox":mail@mymilitia.com
DESCRIPTION:\n\n	The Michigan Civil Defense Force and Michigan Constitut
	ional Militia are sponsoring a training event December 14th 2019 from 1000
	 hrs until COB. Training is located to the West of Manton\, MI near Meauwa
	taka . Wear what you want but preferred is a uniform and load bearing equi
	pment\, No firearms\, bring a substitute such as a pellet rifle or airsoft
	. This event will be outdoors. Please dress for the weather in layers. Bri
	ng a canteen filled with water. Water will be available.\n\n\n\n	 \n\n\n\
	n	Please RSVP thru private message so that I can get a head count. Those t
	hat reserve and are sure they are attending will then be given the address
	 the day before.\n\n\n\n	 \n\n\n\n	Here is a list of classes that we will
	 be conducting Dec 14 as time allow.\n\n\n\n	 \n\n\n\n	Main training \n\n
	\n\n	*Move as a member of a fire team \n\n\n\n	*Move under direct fire \n\
	n\n\n	 \n\n\n\n	Supplemental classes\n\n\n\n	React to indirect fire while
	 dismounted \n\n\n\n	React to flares \n\n\n\n	Select temporary fighting po
	sitions. \n\n\n\n	 \n\n\n\n	If time allows then we do refresher training 
	on evaluate a casualty and putting on a tourniquet/field dressing.\n\n\n\n
		 \n\n\n\n	*means these classes have the priority. Depending on time addi
	tional classes can be taught or we can go through previous classes to impr
	ove proficiency.\n\n\n\n	 \n\n\n\n	The address to the training property i
	s: Will be released the day before training.\n\n\n\n	 \n\n\n\n	If you nee
	d snacks it is on you to bring them. We will provide a garbage bag for any
	 trash. You need to bring your own water container/canteen(a 5gal water ca
	n will be provided). If you do not like sitting on the ground then bring a
	 stool or camping chair.\n\n\n\n	 \n\n\n\n	Please keep the sidebars at a 
	minimum. If you do not understand something then please raise your hand so
	 you can be helped. If you want to offer an opinion or something different
	 from your previous training or life experience then wait until the end of
	 the specific class then please offer up your knowledge. Bring a note pad 
	to take notes.\n\n\n\n	 \n\n\n\n	 \n\n
DTSTART;VALUE=DATE:20191214
END:VEVENT
END:VCALENDAR
