BEGIN:VCALENDAR
VERSION:2.0
PRODID:-//IP.Board Calendar 4.5.4//EN
METHOD:PUBLISH
CALSCALE:GREGORIAN
X-WR-CALNAME:Community Calendar
BEGIN:VTIMEZONE
TZID:Europe/London
TZURL:http://tzurl.org/zoneinfo/Europe/London
X-LIC-LOCATION:Europe/London
BEGIN:DAYLIGHT
TZOFFSETFROM:+0000
TZOFFSETTO:+0100
TZNAME:BST
DTSTART:20190331T020000Z
RRULE:FREQ=YEARLY;BYMONTH=3;BYDAY=-1SU
END:DAYLIGHT
BEGIN:STANDARD
TZOFFSETFROM:+0100
TZOFFSETTO:+0000
TZNAME:GMT
DTSTART:20191027T020000Z
RRULE:FREQ=YEARLY;BYMONTH=10;BYDAY=-1SU
END:STANDARD
END:VTIMEZONE
BEGIN:VEVENT
SUMMARY:Come join us and have a good cook out here in VA
DTSTAMP:20191209T231634Z
SEQUENCE:0
UID:138-1-fe5d9c6f9f68e8123e9dcb41013fa255@www.mymilitia.com
ORGANIZER;CN="Davi276":mail@mymilitia.com
DESCRIPTION:\n	If u are wontin to keep u and ur family safe come and see
	 wat we have to offen and become a brother\n
DTSTART;VALUE=DATE:20191221
ATTENDEE;CN="Davi276";CUTYPE=INDIVIDUAL;PARTSTAT=ACCEPTED:ma
	il@mymilitia.com
END:VEVENT
END:VCALENDAR
