BEGIN:VCALENDAR
VERSION:2.0
PRODID:-//IP.Board Calendar 4.5.4//EN
METHOD:PUBLISH
CALSCALE:GREGORIAN
X-WR-CALNAME:Community Calendar
BEGIN:VTIMEZONE
TZID:Europe/London
TZURL:http://tzurl.org/zoneinfo/Europe/London
X-LIC-LOCATION:Europe/London
BEGIN:DAYLIGHT
TZOFFSETFROM:+0000
TZOFFSETTO:+0100
TZNAME:BST
DTSTART:20200329T020000Z
RRULE:FREQ=YEARLY;BYMONTH=3;BYDAY=-1SU
END:DAYLIGHT
BEGIN:STANDARD
TZOFFSETFROM:+0100
TZOFFSETTO:+0000
TZNAME:GMT
DTSTART:20201025T020000Z
RRULE:FREQ=YEARLY;BYMONTH=10;BYDAY=-1SU
END:STANDARD
END:VTIMEZONE
BEGIN:VEVENT
SUMMARY:VCDL Lobby Day
DTSTAMP:20191226T052057Z
SEQUENCE:0
UID:142-1-fe5d9c6f9f68e8123e9dcb41013fa255@www.mymilitia.com
ORGANIZER;CN="Greg P":mail@mymilitia.com
DESCRIPTION:\n\n	Lobby for your rights and then join in for a rally on t
	he steps of the Capitol.  No experience necessary.  Great experience. Ma
	ke History! Park free in metered spaces due to holiday.  Make plans now t
	o attend.  If you can be a Team Lead please contact LobbyDay@vcdl.org\n\n
	\n\n	Frequently asked questions?\nHttp://tiny.cc/lobbydayfaq\n\n
DTSTART;VALUE=DATE:20200120
END:VEVENT
END:VCALENDAR
