BEGIN:VCALENDAR
VERSION:2.0
PRODID:-//IP.Board Calendar 4.5.4//EN
METHOD:PUBLISH
CALSCALE:GREGORIAN
X-WR-CALNAME:Community Calendar
BEGIN:VTIMEZONE
TZID:Europe/London
TZURL:http://tzurl.org/zoneinfo/Europe/London
X-LIC-LOCATION:Europe/London
BEGIN:DAYLIGHT
TZOFFSETFROM:+0000
TZOFFSETTO:+0100
TZNAME:BST
DTSTART:20180325T020000Z
RRULE:FREQ=YEARLY;BYMONTH=3;BYDAY=-1SU
END:DAYLIGHT
BEGIN:STANDARD
TZOFFSETFROM:+0100
TZOFFSETTO:+0000
TZNAME:GMT
DTSTART:20181028T020000Z
RRULE:FREQ=YEARLY;BYMONTH=10;BYDAY=-1SU
END:STANDARD
END:VTIMEZONE
BEGIN:VEVENT
SUMMARY:GREEN BAY Luncheon
DTSTAMP:20180704T211536Z
SEQUENCE:0
UID:15-1-fe5d9c6f9f68e8123e9dcb41013fa255@www.mymilitia.com
ORGANIZER;CN="J Morris":mail@mymilitia.com
DESCRIPTION:\n\n	\"Supporting and Equipping Christians in the Marketplac
	e\"\n\n\n\n	Our purpose is to bring Christian business owners and leaders 
	together to foster mutual support.\n\n\n\n	Christian business owners and l
	eaders have the responsibility of maintaining the highest standards of hon
	esty\, integrity\, fairness\, and excellent service as they strive to let 
	the light of Christ shine through them and their business while addressing
	 the spiritual needs of each employee. They also face the challenge of mai
	ntaining a balance between their home and work life with the added element
	 of their church/ministry life fitting into that balance.\n\n\n\n	Wisconsi
	n Marketplace Ministries was formed for the benefit of Christian business 
	owners and leaders for encouragement and support through fellowship and ne
	tworking while providing a forum that informs\, educates\, inspires\, and 
	motivates. We hope you find the experience spiritually uplifting and rewar
	ding.\n\n
DTSTART:20180712T163000Z
DTEND:20180712T180000Z
ATTENDEE;CN="J Morris";CUTYPE=INDIVIDUAL;PARTSTAT=ACCEPTED:m
	ail@mymilitia.com
END:VEVENT
END:VCALENDAR
