BEGIN:VCALENDAR
VERSION:2.0
PRODID:-//IP.Board Calendar 4.5.4//EN
METHOD:PUBLISH
CALSCALE:GREGORIAN
X-WR-CALNAME:Community Calendar
BEGIN:VTIMEZONE
TZID:Europe/London
TZURL:http://tzurl.org/zoneinfo/Europe/London
X-LIC-LOCATION:Europe/London
BEGIN:DAYLIGHT
TZOFFSETFROM:+0000
TZOFFSETTO:+0100
TZNAME:BST
DTSTART:20200329T020000Z
RRULE:FREQ=YEARLY;BYMONTH=3;BYDAY=-1SU
END:DAYLIGHT
BEGIN:STANDARD
TZOFFSETFROM:+0100
TZOFFSETTO:+0000
TZNAME:GMT
DTSTART:20201025T020000Z
RRULE:FREQ=YEARLY;BYMONTH=10;BYDAY=-1SU
END:STANDARD
END:VTIMEZONE
BEGIN:VEVENT
SUMMARY:BHM 61ST/BN Snohomish County Public Meeting
DTSTAMP:20200114T013041Z
SEQUENCE:0
UID:151-1-fe5d9c6f9f68e8123e9dcb41013fa255@www.mymilitia.com
ORGANIZER;CN="Guest":mail@mymilit
	ia.com
DESCRIPTION:\n	The Black Horse Militia will be holding a public recruitm
	ent meeting in the city of Everett\, county of Snohomish. \nThis will be 
	a time to meet some of our team members\, hear what we're about and ask qu
	estions.\nPlease note that we only recruit and accept people 21 years of a
	ge or older at this time.\nIf you plan to attend this public meeting for S
	nohomish county and you have not made contact with the Black Horse Militia
	 staff already\, we ask that you please do so via our website www.BlackHor
	seMilitia.com/recruiting \, so that we may have a estimate of those planni
	ng to attend. Thank you for understanding. \nFurther details will be post
	ed later this week. \n-Chief Run InTheDark-\n
DTSTART:20200126T220000Z
END:VEVENT
END:VCALENDAR
