BEGIN:VCALENDAR
VERSION:2.0
PRODID:-//IP.Board Calendar 4.5.4//EN
METHOD:PUBLISH
CALSCALE:GREGORIAN
X-WR-CALNAME:Community Calendar
BEGIN:VTIMEZONE
TZID:Europe/London
TZURL:http://tzurl.org/zoneinfo/Europe/London
X-LIC-LOCATION:Europe/London
BEGIN:DAYLIGHT
TZOFFSETFROM:+0000
TZOFFSETTO:+0100
TZNAME:BST
DTSTART:20200329T020000Z
RRULE:FREQ=YEARLY;BYMONTH=3;BYDAY=-1SU
END:DAYLIGHT
BEGIN:STANDARD
TZOFFSETFROM:+0100
TZOFFSETTO:+0000
TZNAME:GMT
DTSTART:20201025T020000Z
RRULE:FREQ=YEARLY;BYMONTH=10;BYDAY=-1SU
END:STANDARD
END:VTIMEZONE
BEGIN:VEVENT
SUMMARY:Discord Media Broadcast - State of Affairs
DTSTAMP:20200116T040044Z
SEQUENCE:0
UID:152-1-fe5d9c6f9f68e8123e9dcb41013fa255@www.mymilitia.com
ORGANIZER;CN="I3DI":mail@mymilitia.com
DESCRIPTION:\n	I am welcoming individuals to join on the first broadcast
	 I will be doing at invitation on discord in which I will speak about the 
	various things that are in law that afford opportunity to resolve current 
	events in a much different fashion.  I will connect early history and mod
	ern history\, discuss various legal\, judicial and rules of war\, conduct\
	, how these systems work and employ them effectively in our current enviro
	nment.  I am going to open up to people that wish to ask questions\, part
	icularly on law\, the codes.  I will also try to include some education i
	n the parallel system of law and science and how Psychology has diverted u
	s from Science which is \"Reason by Methodology\"\, to a subjective opinio
	n based system where opinions are diverse and divide with lack of knowledg
	e and keeping people in fear\, solo\, to create a divide and conquer state
	 of affairs.  Join me as we discover how to reverse these things\, bring 
	unity\, remove division\, create action and motion to begin to break the b
	ack of the evil in our gates and how to win this on all levels\, properly 
	from beginning to end.  \n
DTSTART:20200118T003000Z
DTEND:20200118T023000Z
END:VEVENT
END:VCALENDAR
