BEGIN:VCALENDAR
VERSION:2.0
PRODID:-//IP.Board Calendar 4.5.4//EN
METHOD:PUBLISH
CALSCALE:GREGORIAN
X-WR-CALNAME:Community Calendar
BEGIN:VTIMEZONE
TZID:Europe/London
TZURL:http://tzurl.org/zoneinfo/Europe/London
X-LIC-LOCATION:Europe/London
BEGIN:DAYLIGHT
TZOFFSETFROM:+0000
TZOFFSETTO:+0100
TZNAME:BST
DTSTART:20200329T020000Z
RRULE:FREQ=YEARLY;BYMONTH=3;BYDAY=-1SU
END:DAYLIGHT
BEGIN:STANDARD
TZOFFSETFROM:+0100
TZOFFSETTO:+0000
TZNAME:GMT
DTSTART:20201025T020000Z
RRULE:FREQ=YEARLY;BYMONTH=10;BYDAY=-1SU
END:STANDARD
END:VTIMEZONE
BEGIN:VEVENT
SUMMARY:Texas State Militia : Houston - New Member Meeting
DTSTAMP:20200118T171424Z
SEQUENCE:0
UID:165-1-fe5d9c6f9f68e8123e9dcb41013fa255@www.mymilitia.com
ORGANIZER;CN="Guest":mail@mymilit
	ia.com
DESCRIPTION:Brotherhood begins here with good food\, good stories\, and 
	like-minded purpose. \n\n\nNew members and old are invited to come Wednesd
	ay\, April 15th to Spring Creek Barbecue for a chance to meet with TSM Hou
	ston command staff and eat BBQ. \n\n\nAt this relaxed event\, the public m
	ay attend.Old members and new members will officially report present\, hea
	r TSM's mission statement\, policies and training schedule\, as well as me
	et the group.
DTSTART:20200416T000000Z
DTEND:20200416T020000Z
END:VEVENT
END:VCALENDAR
