BEGIN:VCALENDAR
VERSION:2.0
PRODID:-//IP.Board Calendar 4.5.4//EN
METHOD:PUBLISH
CALSCALE:GREGORIAN
X-WR-CALNAME:Community Calendar
BEGIN:VTIMEZONE
TZID:Europe/London
TZURL:http://tzurl.org/zoneinfo/Europe/London
X-LIC-LOCATION:Europe/London
BEGIN:DAYLIGHT
TZOFFSETFROM:+0000
TZOFFSETTO:+0100
TZNAME:BST
DTSTART:20200329T020000Z
RRULE:FREQ=YEARLY;BYMONTH=3;BYDAY=-1SU
END:DAYLIGHT
BEGIN:STANDARD
TZOFFSETFROM:+0100
TZOFFSETTO:+0000
TZNAME:GMT
DTSTART:20201025T020000Z
RRULE:FREQ=YEARLY;BYMONTH=10;BYDAY=-1SU
END:STANDARD
END:VTIMEZONE
BEGIN:VEVENT
SUMMARY:Gun Rally - Phoenix\, Arizona @ The Capital
DTSTAMP:20200127T152051Z
SEQUENCE:0
UID:173-1-fe5d9c6f9f68e8123e9dcb41013fa255@www.mymilitia.com
ORGANIZER;CN="Matt In West Virginia":mail@mymilitia.com
DESCRIPTION:\n	Mark your calendars folks. The 7th annual Arizona 2nd Ame
	ndment – Right to Keep and Bear Arms Rally and Celebration is going to b
	e a blockbuster. It will be held on 2/15/20 from 10:00 am to 2:00 pm at th
	e Arizona State Capitol.\n\n\n\n	 \n\n\n\n	RidersUSA\, AZ Firearms and Gu
	n Freedom Radio team up once again to bring you a spectacular list of loca
	l and national gun rights speakers\, vendors\, food\, fun and our best gun
	 raffle yet. Check for our all rally information on our new website to go 
	live soon at www.2ndamendmentrallyaz.com.\n\n\n\n	 \n\n\n\n	Bring your fa
	mily\, friends\, flags\, signs and unwavering American pride to celebrate 
	our God given rights. Great lineup of local and national speakers\, vendor
	s\, food. We will be raffling off many door prizes\, a couple of spectacul
	ar firearms\, ammo and more. You don’t want to miss your chance at some 
	of these items.\n\n\n\n	 \n\n\n\n	This is a family friendly event.\n\n\n\
	n	 \n\n\n\n	Confirmed Speakers Include:\n\n\n\n	Coming soon\n\n\n\n	 \n\
	n\n\n	ATTENTION BIKERS: We will do a motorcycle procession from Encanto Pa
	rk to the State Capitol to open the rally. Please register at http://www.r
	idersusa.net/ so we can get a count on the bikes. Please share with all yo
	u biker groups and friends.\n\n\n\n	 \n\n\n\n	Motorcycle Staging Informat
	ion\n\n	Encanto Park\n\n	2605 N. 15th Ave. (south of Encanto Blvd. in the 
	Sports Complex parking lot)\n\n	Phoenix\, AZ 85007\n\n	Staging @ 9:00 AM\n
	\n	Kick Stands Up @ 9:45 AM\n\n\n\n	 \n\n\n\n	\n		\n			Organizer:\n		\n\n
			\n			2nd Amendment Rally AZ\n		\n	\n\n	\n		\n			Event Website:\n		\n\n		
	\n			http://www.2ndamendmentrallyaz.com/\n		\n	\n\n	\n		\n			More Info:\n	
		\n\n		\n			https://www.facebook.com/events/1186584448397644/\n		\n	\n\n	\
	n		\n			Date of Event:  Saturday\, 15 February\, 2020\n		\n	\n\n	\n		\n		
		 \n		\n\n		\n			Time of Event: 10 AM – 2 PM\n		\n	\n\n	\n		\n			 \n		
	\n\n		\n			Address:\n		\n\n		\n			Arizona State Capitol\, 1700 W Washingto
	n\,\n		\n\n		\n			Phoenix\, Arizona 85007\n		\n	\n\n	\n		\n			City:\n		\n\
	n		\n			Phoenix\, Arizona\n		\n	\n
DTSTART;VALUE=DATE:20200215
END:VEVENT
END:VCALENDAR
