BEGIN:VCALENDAR
VERSION:2.0
PRODID:-//IP.Board Calendar 4.5.4//EN
METHOD:PUBLISH
CALSCALE:GREGORIAN
X-WR-CALNAME:Community Calendar
BEGIN:VTIMEZONE
TZID:Europe/London
TZURL:http://tzurl.org/zoneinfo/Europe/London
X-LIC-LOCATION:Europe/London
BEGIN:DAYLIGHT
TZOFFSETFROM:+0000
TZOFFSETTO:+0100
TZNAME:BST
DTSTART:20200329T020000Z
RRULE:FREQ=YEARLY;BYMONTH=3;BYDAY=-1SU
END:DAYLIGHT
BEGIN:STANDARD
TZOFFSETFROM:+0100
TZOFFSETTO:+0000
TZNAME:GMT
DTSTART:20201025T020000Z
RRULE:FREQ=YEARLY;BYMONTH=10;BYDAY=-1SU
END:STANDARD
END:VTIMEZONE
BEGIN:VEVENT
SUMMARY:WVCDL Gun Rally Lobby Day 2020
DTSTAMP:20200127T155613Z
SEQUENCE:0
UID:174-1-fe5d9c6f9f68e8123e9dcb41013fa255@www.mymilitia.com
ORGANIZER;CN="Matt In West Virginia":mail@mymilitia.com
DESCRIPTION:\n	Where: West Virginia State Capitol 1900 Kanawha Blvd E. 
	Charleston\, WV 25305\n\n\n\n	Date: February 17\, 2020\n\n\n\n	Time: 7:3
	0 AM - 3 PM\n\n\n\n	Latitude: 38.35794 Longitude: -81.57081\n\n\n\n	Spo
	nsor: West Virginia Citizens Defense League\n\n\n\n	Website: www.faceboo
	k.com/events/972284796472137/\n\n\n\n	\n		The most important day of the ye
	ar for the WVCDL is Monday\, February 17\, 2020.\n	\n\n	\n		Please come st
	and with us in defense of your rights!\n	\n\n	\n		Our legislative session 
	here begins on January 8 and we will be steadfastly working to expand and 
	maintain our rights. It is essential that West Virginians never falter in 
	their participation in their government.\n	\n\n	\n		Make sure you are sign
	ed up for WVCDL email alerts (never spam and never a waste of time)\, http
	s://lp.constantcontact.com/su/gCE4oq8/wvcdl\n	\n\n	\n		Secondly\, are you 
	registered to vote?\n	\n\n	\n		https://ovr.sos.wv.gov/Register/Landing\n	\
	n\n	\n		If you've never been to a Lobby Day before\, do not be intimidated
	. West Virginians from all walks of life come down to meet and discuss our
	 rights with their legislators. If you wish to speak to them\, you'll prob
	ably get the opportunity. If you would prefer to just listen\, you can do 
	that too. Either way\, you get to see the process and have a direct impact
	 on the laws that govern your life. These legislators know well that each 
	of us that shows represents thousands of others who think and vote the sam
	e way you do but couldn't make it. Come and stand for thousands of people 
	in your community. If not you\, then who?\n	\n\n	\n		We plan to start at 8
	AM. Tentative plans are to meet in the capitol building next to the AG's o
	ffice. Arrive early to allow time to get through the security screening. T
	he checkpoints are at the ends of the east and west wings.\n	\n\n	\n		We h
	ave a special rate for Lobby Day attendees at the Holiday Inn Express near
	 the Civic Center.\n	\n\n	\n		Please stay tuned as we announce Pre-Lobby d
	ay meet and greet plans\, hotel reservation details\, and possible bus and
	/or carpool plans.\n	\n
DTSTART;VALUE=DATE:20200217
END:VEVENT
END:VCALENDAR
