BEGIN:VCALENDAR
VERSION:2.0
PRODID:-//IP.Board Calendar 4.5.4//EN
METHOD:PUBLISH
CALSCALE:GREGORIAN
X-WR-CALNAME:Community Calendar
BEGIN:VTIMEZONE
TZID:Europe/London
TZURL:http://tzurl.org/zoneinfo/Europe/London
X-LIC-LOCATION:Europe/London
BEGIN:DAYLIGHT
TZOFFSETFROM:+0000
TZOFFSETTO:+0100
TZNAME:BST
DTSTART:20200329T020000Z
RRULE:FREQ=YEARLY;BYMONTH=3;BYDAY=-1SU
END:DAYLIGHT
BEGIN:STANDARD
TZOFFSETFROM:+0100
TZOFFSETTO:+0000
TZNAME:GMT
DTSTART:20201025T020000Z
RRULE:FREQ=YEARLY;BYMONTH=10;BYDAY=-1SU
END:STANDARD
END:VTIMEZONE
BEGIN:VEVENT
SUMMARY:Iowa Annual 2nd Amendment Day Rally
DTSTAMP:20200127T162853Z
SEQUENCE:0
UID:175-1-fe5d9c6f9f68e8123e9dcb41013fa255@www.mymilitia.com
ORGANIZER;CN="Matt In West Virginia":mail@mymilitia.com
DESCRIPTION:\n	Where: Iowa State Capitol 1007 E Grand Ave Des Moines\, 
	IA 50319\n\n\n\n	Date: February 27\, 2020\n\n\n\n	Time: 10 AM - 5 PM CST
	\n\n\n\n	Latitude: 41.58995 Longitude: -93.59861\n\n\n\n	Sponsor: Iowa
	 Firearms Coalition\n\n\n\n	Website: iowafc.org/blog/2020/01/16/2a-day-io
	wa-capitol-february-27th/\n\n\n\n	\n		Second Amendment Day at the Capitol 
	February 27th at 10am\n	\n\n	\n		The Iowa Firearms Coalition has organized
	 a rally at the Iowa State Capitol Building.\n	\n\n	\n		We will meet in ro
	om 15 from 10am - 11am and discuss current legislative efforts and hear fr
	om representatives pushing for increased 2A freedoms in Iowa &amp\; protec
	ting rights for future generations.\n	\n\n	\n		We will then lobby our indi
	vidual representatives &amp\; IFC will be there to assist you.\n	\n\n	\n		
	Now is the time for all freedom loving Iowans to stand together for our Se
	cond Amendment rights. What is currently happening in the state of Virgini
	a must never be allowed to come to Iowa. Virginians are seeing the catastr
	ophic consequences for 2A liberties when conservative majorities are lost 
	and those who oppose freedom gain control of government. We are one electi
	on away from this same fate\, believe it. Please stand with Iowa Firearms 
	Coalition to preserve our precious rights and liberties.\n	\n
DTSTART;VALUE=DATE:20200227
END:VEVENT
END:VCALENDAR
