BEGIN:VCALENDAR
VERSION:2.0
PRODID:-//IP.Board Calendar 4.5.4//EN
METHOD:PUBLISH
CALSCALE:GREGORIAN
X-WR-CALNAME:Community Calendar
BEGIN:VTIMEZONE
TZID:Europe/London
TZURL:http://tzurl.org/zoneinfo/Europe/London
X-LIC-LOCATION:Europe/London
BEGIN:DAYLIGHT
TZOFFSETFROM:+0000
TZOFFSETTO:+0100
TZNAME:BST
DTSTART:20200329T020000Z
RRULE:FREQ=YEARLY;BYMONTH=3;BYDAY=-1SU
END:DAYLIGHT
BEGIN:STANDARD
TZOFFSETFROM:+0100
TZOFFSETTO:+0000
TZNAME:GMT
DTSTART:20201025T020000Z
RRULE:FREQ=YEARLY;BYMONTH=10;BYDAY=-1SU
END:STANDARD
END:VTIMEZONE
BEGIN:VEVENT
SUMMARY:2020 Minnesota Rally to Defend the 2nd Amendment
DTSTAMP:20200127T163554Z
SEQUENCE:0
UID:176-1-fe5d9c6f9f68e8123e9dcb41013fa255@www.mymilitia.com
ORGANIZER;CN="Matt In West Virginia":mail@mymilitia.com
DESCRIPTION:\n	Where: Minnesota State Capitol - Rotunda 75 Rev Dr Marti
	n Luther King Jr Blvd Saint Paul\, MN 55155\n\n\n\n	Date: April 18\, 2020
	\n\n\n\n	Time: 11:00 am - 1:00 pm\n\n\n\n	Latitude: 44.96282 Longitude
	: -93.12368\n\n\n\n	Sponsor: Minnesota Gun Owners Caucus\n\n\n\n	Sponsor
	 Email: contact@gunowners.mn\n\n\n\n	Website: www.gunowners.mn/2020rally
	\n\n\n\n	\n		Join the Minnesota Gun Owners Caucus for a Rally to Defend th
	e 2nd Amendment in the Minnesota State Capitol Rotunda on Saturday\, April
	 18th\, 2020 from 11:00 am - 1:00 pm.\n	\n\n	\n		Michael Bloomberg's out o
	f state gun control agenda was out in full force during the 2019 legislati
	ve session. They spent more than $1.2 million electing an anti-gun majorit
	y in the Minnesota House of Representatives - last year\, they passed his 
	two big anti-gun bills in the Minnesota House. This year they're going to 
	try their best to get their whole anti-gun agenda through the legislature.
	\n	\n\n	\n		We need to keep up the pressure all throughout the entire legi
	slative session to stop gun control in its tracks.\n	\n\n	\n		What better 
	way than to have thousands of law-abiding gun owners rally to make sure th
	eir voices are heard?\n	\n\n	\n		This year's rally is deliberately planned
	 to happen just before the committee deadline week when any anti-gun bills
	 (and pro-gun bills) must have passed through the committee process to be 
	able to move forward.\n	\n\n	\n		It's a great opportunity to put more pres
	sure on anti-gun legislators and remind our allies what's important to us 
	during the session.\n	\n\n	\n		We will have speakers from all over the gun
	 rights movement here in Minnesota\, including elected officials.\n	\n\n	\
	n		Timeline\n	\n\n	\n		10:00 am: Doors open\n	\n\n	\n		11:00 am - 1:00 pm:
	 Rally\n	\n\n	\n		We're holding the event on a Saturday so that folks that
	 work during the week can attend - and indoors so that we can avoid any we
	ather challenges in April.\n	\n\n	\n		RSVP (on website)\, SAVE THE DATE an
	d SPREAD THE WORD.\n	\n\n	\n		Note: You may carry a handgun at the State C
	apitol Complex as long as you have a valid Minnesota Permit to Carry. Long
	-gun carry inside the buildings is prohibited by statute. We recommend car
	rying concealed. Flag poles &amp\; signs on a stick are prohibited. Signs 
	and flags are welcome\, however - but must be carried by hand. We will hav
	e Caucus signs available.\n	\n\n	\n		We hope to see you there!\n	\n
DTSTART;VALUE=DATE:20200318
END:VEVENT
END:VCALENDAR
