BEGIN:VCALENDAR
VERSION:2.0
PRODID:-//IP.Board Calendar 4.5.4//EN
METHOD:PUBLISH
CALSCALE:GREGORIAN
X-WR-CALNAME:Community Calendar
BEGIN:VTIMEZONE
TZID:Europe/London
TZURL:http://tzurl.org/zoneinfo/Europe/London
X-LIC-LOCATION:Europe/London
BEGIN:DAYLIGHT
TZOFFSETFROM:+0000
TZOFFSETTO:+0100
TZNAME:BST
DTSTART:20200329T020000Z
RRULE:FREQ=YEARLY;BYMONTH=3;BYDAY=-1SU
END:DAYLIGHT
BEGIN:STANDARD
TZOFFSETFROM:+0100
TZOFFSETTO:+0000
TZNAME:GMT
DTSTART:20201025T020000Z
RRULE:FREQ=YEARLY;BYMONTH=10;BYDAY=-1SU
END:STANDARD
END:VTIMEZONE
BEGIN:VEVENT
SUMMARY:Washington State Liberty Or Death Rally 2020 Rally - URGENT
DTSTAMP:20200127T164924Z
SEQUENCE:0
UID:177-1-fe5d9c6f9f68e8123e9dcb41013fa255@www.mymilitia.com
ORGANIZER;CN="Matt In West Virginia":mail@mymilitia.com
DESCRIPTION:\n	Where: Franklin Park 120 W Queen Ave Spokane\, WA 99205\
	n\n\n\n	Date: April 25\, 2020\n\n\n\n	Time: 11 AM - 2 PM PDT\n\n\n\n	Lat
	itude: 47.69545 Longitude: -117.44233\n\n\n\n	Sponsor: John Valle\n\n\
	n\n	Website: www.facebook.com/events/945976615751530/\n\n\n\n	\n		We the 
	people have simply had enough. Our rights have been trampled for over 220 
	years. Washington state no longer listens to the people. We are no longer 
	the \"silent majority\"\, we are awakened and we are LOUD!\n	\n\n	\n		We a
	re tired of Washington States UNCONSTITUTIONAL GUN LAWS. WE WILL NOT allow
	 politicians to legislate our rights away.\n	\n\n	\n		WE THE PEOPLE HAVE H
	AD ENOUGH!\n	\n\n	\n		Sponsored by: APIII Coffee\, Praetorian Armory and C
	oatings\, 2A Apparel\n	\n\n	\n		We are proud to announce our main Speaker 
	will be Republic\, Washington police Chief and Republican canidate for Gov
	ernor Loren Culp\n	\n\n	\n		We are happy to announce Joseph Brumbles\, can
	didate for Lt. Governor will be speaking at Liberty or Death\n	\n\n	\n		We
	 are happy to announce that once again\, Rep. Matt Shea of the 4th Legisla
	tive District will be speaking at Liberty or Death again.\n	\n
DTSTART;VALUE=DATE:20200425
END:VEVENT
END:VCALENDAR
