BEGIN:VCALENDAR
VERSION:2.0
PRODID:-//IP.Board Calendar 4.5.4//EN
METHOD:PUBLISH
CALSCALE:GREGORIAN
X-WR-CALNAME:Community Calendar
BEGIN:VTIMEZONE
TZID:Europe/London
TZURL:http://tzurl.org/zoneinfo/Europe/London
X-LIC-LOCATION:Europe/London
BEGIN:DAYLIGHT
TZOFFSETFROM:+0000
TZOFFSETTO:+0100
TZNAME:BST
DTSTART:20200329T020000Z
RRULE:FREQ=YEARLY;BYMONTH=3;BYDAY=-1SU
END:DAYLIGHT
BEGIN:STANDARD
TZOFFSETFROM:+0100
TZOFFSETTO:+0000
TZNAME:GMT
DTSTART:20201025T020000Z
RRULE:FREQ=YEARLY;BYMONTH=10;BYDAY=-1SU
END:STANDARD
END:VTIMEZONE
BEGIN:VEVENT
SUMMARY:Michigan 2020 Second Amendment March And Rally @ The Capital
DTSTAMP:20200127T165644Z
SEQUENCE:0
UID:178-1-fe5d9c6f9f68e8123e9dcb41013fa255@www.mymilitia.com
ORGANIZER;CN="Matt In West Virginia":mail@mymilitia.com
DESCRIPTION:\n	Where: State Capitol Building 100 N Capitol Ave Lansing\
	, MI 48910\n\n\n\n	Date: September 17\, 2020\n\n\n\n	Time: 10 AM - 2 PM\
	n\n\n\n	Latitude: 42.70415 Longitude: -84.54678\n\n\n\n	Sponsor: Secon
	d Amendment March\n\n\n\n	Website: www.facebook.com/events/46265413459546
	5/\n\n\n\n	\n		Join your fellow Second Amendment supporters in our 11th an
	nual Second Amendment March. We will have featured speakers\, legislators\
	, our \"ask an attorney\" panel\, a raffle\, silent auction\, music\, and 
	our ever-popular vendor tent. This event grows larger each year. We would 
	love to count you among us!\n	\n\n	\n		The event this year also happens to
	 fall on Constitution Day. What better day to celebrate the right to keep 
	and bear arms?\n	\n
DTSTART;VALUE=DATE:20200817
END:VEVENT
END:VCALENDAR
