BEGIN:VCALENDAR
VERSION:2.0
PRODID:-//IP.Board Calendar 4.5.4//EN
METHOD:PUBLISH
CALSCALE:GREGORIAN
X-WR-CALNAME:Community Calendar
BEGIN:VTIMEZONE
TZID:Europe/London
TZURL:http://tzurl.org/zoneinfo/Europe/London
X-LIC-LOCATION:Europe/London
BEGIN:DAYLIGHT
TZOFFSETFROM:+0000
TZOFFSETTO:+0100
TZNAME:BST
DTSTART:20200329T020000Z
RRULE:FREQ=YEARLY;BYMONTH=3;BYDAY=-1SU
END:DAYLIGHT
BEGIN:STANDARD
TZOFFSETFROM:+0100
TZOFFSETTO:+0000
TZNAME:GMT
DTSTART:20201025T020000Z
RRULE:FREQ=YEARLY;BYMONTH=10;BYDAY=-1SU
END:STANDARD
END:VTIMEZONE
BEGIN:VEVENT
SUMMARY:Monroe county Wisconsin meeting with the Sheriff
DTSTAMP:20200202T034355Z
SEQUENCE:0
UID:181-1-fe5d9c6f9f68e8123e9dcb41013fa255@www.mymilitia.com
ORGANIZER;CN="Claw Hammer":mail@mymilitia.com
DESCRIPTION:\n	Sanctuary county meeting at Jake's northwoods in sparta W
	isconsin.    1800 is the start time.\n\n\n\n	 \n\n\n\n	Bring everyone e
	ven if your not in the county.  Let's start this trend.\n
DTSTART:20200213T000000Z
END:VEVENT
END:VCALENDAR
