BEGIN:VCALENDAR
VERSION:2.0
PRODID:-//IP.Board Calendar 4.5.4//EN
METHOD:PUBLISH
CALSCALE:GREGORIAN
X-WR-CALNAME:Community Calendar
BEGIN:VTIMEZONE
TZID:Europe/London
TZURL:http://tzurl.org/zoneinfo/Europe/London
X-LIC-LOCATION:Europe/London
BEGIN:DAYLIGHT
TZOFFSETFROM:+0000
TZOFFSETTO:+0100
TZNAME:BST
DTSTART:20200329T020000Z
RRULE:FREQ=YEARLY;BYMONTH=3;BYDAY=-1SU
END:DAYLIGHT
BEGIN:STANDARD
TZOFFSETFROM:+0100
TZOFFSETTO:+0000
TZNAME:GMT
DTSTART:20201025T020000Z
RRULE:FREQ=YEARLY;BYMONTH=10;BYDAY=-1SU
END:STANDARD
END:VTIMEZONE
BEGIN:VEVENT
SUMMARY:MILITIA MUSTER CALL     NEW MEXICO
DTSTAMP:20200219T003544Z
SEQUENCE:0
UID:185-1-fe5d9c6f9f68e8123e9dcb41013fa255@www.mymilitia.com
ORGANIZER;CN="Dav Harzin":mail@mymilitia.com
DESCRIPTION:\n	Militia Forming: New Mexico Civil Guard\n\n\n\n	\n		 \n	
	\n\n\n\n	\n		\n			\n		\n		\n\n\n\n		 \n		\n			\n				MILITIA MUSTER CALL\n
				\n\n			\n				NEW MEXICO\n			\n		\n		Volunteers of the unorganized Milit
	ia of New Mexico\, as defined in NM statute 20-2-2 “All able bodied citi
	zens of the state... who are not less than 18 or are more than 45 years of
	 age...” have been called to a muster at Chelwood park off of Fruit Ave 
	NE by the Lomas Tramway public library in Albuquerque NM on March 14th 202
	0.\n\nThe purpose of this muster is to summon\, organize\, and train the M
	ilitia of NM. The role of the Militia is to defend the Constitution of the
	 United States\, the laws\, the property of and the citizens of NM and the
	 United States of America and above all to serve our neighbors in any time
	 of need. The Militia will protect\, defend and serve the people whether t
	hat be from invasion\, natural disaster\, insurrection\, inclement weather
	\, or whatever events may arise that will require the Militia of NM to int
	ervene.\n\nThose who attend the muster must adhere to the following instru
	ctions:\n\n		 \n		\n				Volunteers will need to provide their name and co
	ntact info for further musters. The roster of volunteers will never be giv
	en to any town\, municipality\, county\, state or federal agency.\n			\n		
		\n				Volunteers must be able to possess a firearm.\n			\n			\n				Volunt
	eers should possess a working rifle\, carbine\, or shotgun\, though rifles
	 are preferred as they are more suited to Militia purposes.\n			\n			\n			
		Volunteers are encouraged to own a sidearm as well.\n			\n			\n				Volunt
	eers must be 18 years of age or older.\n			\n			\n				Volunteers who do no
	t possess a firearm or are over the age of 45 are heartily encouraged to a
	ttend.\n			\n		\n			\n\n\n			Anyone attending the muster as a volunteer or
	 in a support capacity will not wear any clothing or carry any signs conta
	ining political messages\, and shall only carry\, wear\, or display the fl
	ag of the United States or New Mexico.\n\n\n			We encourage the citizens f
	rom across the state to attend this historic muster. We will form eleven c
	ompanies that will constitute the New Mexico Civil Guard. The companies wi
	ll be formed in the following NM counties: Dona Ana\, Mckinley\, Bernalill
	o\, Santa Fe\, Lea\, Guadalupe\, Taos\, San Juan\, Chaves\, Eddy\, and ano
	ther company for all those counties not mentioned. All members will be mus
	tered into the Company of the county of their current residence.\n\n\n			R
	egistration will be from 1200 to 1300 hours [noon to 1:00 PM] regardless o
	f weather. After registration is complete\, there will be an address from 
	the organizer of the muster. This Muster will be part of an historic event
	 and will demonstrate the will and the resolve of the people of New Mexico
	 to defend their state and the constitution\, protect others\, and serve t
	heir neighbors.\n\n\n			The highest law we are to obey is this:\n\n“Love
	 thy neighbor as thyself.” The Militia WILL SERVE THE PEOPLE\, not a pol
	itical agenda or party.\n\n\n			For more information contact the New Mexic
	o Civil Guard at newmexicocivilgaurd@gmail.com\n		\n\n		\n			 \n		\n\n		\
	n			 \n		\n\n		\n			 \n		\n\n		\n			 \n		\n\n		\n			 \n		\n\n		\n			 
	\n		\n\n		\n			.\n		\n	\n
DTSTART:20200314T160000Z
DTEND:20200314T210000Z
END:VEVENT
END:VCALENDAR
