BEGIN:VCALENDAR
VERSION:2.0
PRODID:-//IP.Board Calendar 4.5.4//EN
METHOD:PUBLISH
CALSCALE:GREGORIAN
X-WR-CALNAME:Community Calendar
BEGIN:VTIMEZONE
TZID:Europe/London
TZURL:http://tzurl.org/zoneinfo/Europe/London
X-LIC-LOCATION:Europe/London
BEGIN:DAYLIGHT
TZOFFSETFROM:+0000
TZOFFSETTO:+0100
TZNAME:BST
DTSTART:20200329T020000Z
RRULE:FREQ=YEARLY;BYMONTH=3;BYDAY=-1SU
END:DAYLIGHT
BEGIN:STANDARD
TZOFFSETFROM:+0100
TZOFFSETTO:+0000
TZNAME:GMT
DTSTART:20201025T020000Z
RRULE:FREQ=YEARLY;BYMONTH=10;BYDAY=-1SU
END:STANDARD
END:VTIMEZONE
BEGIN:VEVENT
SUMMARY:Alabama Unit of Oathkeepers Monthly Meeting
DTSTAMP:20200220T074702Z
SEQUENCE:0
UID:186-1-fe5d9c6f9f68e8123e9dcb41013fa255@www.mymilitia.com
ORGANIZER;CN="OATHKEEPERS \, Alabama unit":mail@mymilitia.co
	m
DESCRIPTION:\n	I just want to remind any new people that are interested 
	in joining the Alabama Unit Of Oathkeepers that our monthly meeting is thi
	s Saturday at 11:00 in Hazel Green\, Alabama. Please email me at alabamaoa
	thkeepers@protonmail.com. \n\n\n\n	 \n\n\n\n	            
	                                            CUSTOM 
	AR-15 FOR  MILITIA MEMBERS AND NEW RECRUITS !\n\n\n\n	 \n\n\n\n	I want t
	o also let every militia member \, especially new recruits that are intere
	sted in joining a militia unit that need a good\, decent priced AR-15 in 2
	23/5.56 caliber\n\n\n\n	  that I  can sell you a new one with flat top r
	eceiver\, standard carbine grips\, adjustable stock\, competition muzzle b
	rake\, heavy barrel\, A-2 style open sights\, sling and either a red dot e
	lectronic sight or a 2.5 x 7 adjustable power scope with bullet compensato
	r for the 223/5.56 caliber bullet \, lighted reticle\, sniper cross hairs 
	and built in laser\, and 6 30 round magazines for $675 plus $35.00 shippin
	g to your FFL dealer for transfer! Alabama residents can pick it up and sa
	ve on shipping. This is a rifle that would retail for around $800.00 in a 
	regular gun shop at used prices. The receiver is a multi caliber by Anders
	on!   If anyone wants one of these package deals \, I can take credit ca
	rds thru pay pal. I also take checks and money orders. I need proof that y
	ou are in a militia or are going to join one and need a rifle\,. I will al
	so include a fold down  adjustable rear sight in case you need to shoot t
	he rifle with the optic off! You can email me at alabamaoathkeepers@proton
	mail.com if you want to purchase a rifle kit and I will give you the infor
	mation you will need to purchase it! I WILL SHIP TO ANYPLACE THAT STILL LE
	TS A PERSON HAVE AN ASSAULT TYPE RIFLE! AS LONG AS YOUR FFL WILL ACCEPT an
	 AR-15 \, I WILL SHIP IT!\n
DTSTART:20200222T170000Z
END:VEVENT
END:VCALENDAR
