BEGIN:VCALENDAR
VERSION:2.0
PRODID:-//IP.Board Calendar 4.5.4//EN
METHOD:PUBLISH
CALSCALE:GREGORIAN
X-WR-CALNAME:Events
BEGIN:VTIMEZONE
TZID:Europe/London
TZURL:http://tzurl.org/zoneinfo/Europe/London
X-LIC-LOCATION:Europe/London
BEGIN:DAYLIGHT
TZOFFSETFROM:+0000
TZOFFSETTO:+0100
TZNAME:BST
DTSTART:20200329T020000Z
RRULE:FREQ=YEARLY;BYMONTH=3;BYDAY=-1SU
END:DAYLIGHT
BEGIN:STANDARD
TZOFFSETFROM:+0100
TZOFFSETTO:+0000
TZNAME:GMT
DTSTART:20201025T020000Z
RRULE:FREQ=YEARLY;BYMONTH=10;BYDAY=-1SU
END:STANDARD
END:VTIMEZONE
BEGIN:VEVENT
SUMMARY:309 training day
DTSTAMP:20200326T182434Z
SEQUENCE:0
UID:191-209-fe5d9c6f9f68e8123e9dcb41013fa255@www.mymilitia.com
ORGANIZER;CN="T ILSM Williams":mail@mymilitia.com
DESCRIPTION:\n	309 has 2 training opportunities this coming Sunday. \n\
	n\n\n	Bloomington\, 12pm at Comlara Park\n\n\n\n	Galesburg\, 12pm at Black
	thorn Hill Nature Preserve \n\n\n\n	 \n\n\n\n	If you're wanting to atten
	d I can get you more details \n
DTSTART:20200329T170000Z
END:VEVENT
END:VCALENDAR
