BEGIN:VCALENDAR
VERSION:2.0
PRODID:-//IP.Board Calendar 4.5.4//EN
METHOD:PUBLISH
CALSCALE:GREGORIAN
X-WR-CALNAME:Community Calendar
BEGIN:VTIMEZONE
TZID:Europe/London
TZURL:http://tzurl.org/zoneinfo/Europe/London
X-LIC-LOCATION:Europe/London
BEGIN:DAYLIGHT
TZOFFSETFROM:+0000
TZOFFSETTO:+0100
TZNAME:BST
DTSTART:20200329T020000Z
RRULE:FREQ=YEARLY;BYMONTH=3;BYDAY=-1SU
END:DAYLIGHT
BEGIN:STANDARD
TZOFFSETFROM:+0100
TZOFFSETTO:+0000
TZNAME:GMT
DTSTART:20201025T020000Z
RRULE:FREQ=YEARLY;BYMONTH=10;BYDAY=-1SU
END:STANDARD
END:VTIMEZONE
BEGIN:VEVENT
SUMMARY:Az training in the desert
DTSTAMP:20200518T203848Z
SEQUENCE:0
UID:198-1-fe5d9c6f9f68e8123e9dcb41013fa255@www.mymilitia.com
ORGANIZER;CN="MikeAll":mail@mymilitia.com
DESCRIPTION:\n	Meet and greet 6am sharp\n\n\n\n	at the site shooting aro
	und 7am\n\n\n\n	you will need a 4x4 or a vehicle with high ground clearanc
	e.\n\n\n\n	needed supplies.\n\n\n\n	•water (plenty of it)\n\n\n\n	•lun
	ch or snacks.\n\n\n\n	•chair and shade if you have it\n\n\n\n	•120 rou
	nds for primary\n\n\n\n	•100 rounds for secondary.\n\n\n\n	msg me on her
	e for further information.\n\n\n\n	 \n
DTSTART:20200530T130000Z
DTEND:20200530T200000Z
ATTENDEE;CN="MikeAll";CUTYPE=INDIVIDUAL;PARTSTAT=ACCEPTED:ma
	il@mymilitia.com
END:VEVENT
END:VCALENDAR
