BEGIN:VCALENDAR
VERSION:2.0
PRODID:-//IP.Board Calendar 4.5.4//EN
METHOD:PUBLISH
CALSCALE:GREGORIAN
X-WR-CALNAME:Community Calendar
BEGIN:VTIMEZONE
TZID:Europe/London
TZURL:http://tzurl.org/zoneinfo/Europe/London
X-LIC-LOCATION:Europe/London
BEGIN:DAYLIGHT
TZOFFSETFROM:+0000
TZOFFSETTO:+0100
TZNAME:BST
DTSTART:20180325T020000Z
RRULE:FREQ=YEARLY;BYMONTH=3;BYDAY=-1SU
END:DAYLIGHT
BEGIN:STANDARD
TZOFFSETFROM:+0100
TZOFFSETTO:+0000
TZNAME:GMT
DTSTART:20181028T020000Z
RRULE:FREQ=YEARLY;BYMONTH=10;BYDAY=-1SU
END:STANDARD
END:VTIMEZONE
BEGIN:VEVENT
SUMMARY:Liberty and Justice for ALL!
DTSTAMP:20180315T024543Z
SEQUENCE:0
UID:2-1-fe5d9c6f9f68e8123e9dcb41013fa255@www.mymilitia.com
ORGANIZER;CN="fixer":mail@mymilitia.com
DESCRIPTION:\n\n	This Rally is being hosted by the American Patriot Unio
	n and is to call for justice for those that have conspired to remove Presi
	dent Trump from office. Hillary Clinton\, James Comey\, members of the Oba
	ma Administration\, the DNC and a host of others have worked in secret to 
	first steal an election and then\, that having failed\, to unseat Presiden
	t Trump. The corruption of our Federal Government now threatens the very f
	abric of Liberty and Justice! American Patriots are all that stand between
	 Liberty and Tyranny and we MUST become a powerful force to set America ri
	ght!! Join us on April 15th to demand JUSTICE in America! You can also sup
	port this effort by making any size contribution to cover the costs of the
	 rally at https://www.gofundme.com/PatriotUnionRallyatRushmore\n\n\n\n	 
	\n\n\n\n	\n\n
DTSTART;VALUE=DATE:20180415
END:VEVENT
END:VCALENDAR
