BEGIN:VCALENDAR
VERSION:2.0
PRODID:-//IP.Board Calendar 4.5.4//EN
METHOD:PUBLISH
CALSCALE:GREGORIAN
X-WR-CALNAME:Community Calendar
BEGIN:VTIMEZONE
TZID:Europe/London
TZURL:http://tzurl.org/zoneinfo/Europe/London
X-LIC-LOCATION:Europe/London
BEGIN:DAYLIGHT
TZOFFSETFROM:+0000
TZOFFSETTO:+0100
TZNAME:BST
DTSTART:20200329T020000Z
RRULE:FREQ=YEARLY;BYMONTH=3;BYDAY=-1SU
END:DAYLIGHT
BEGIN:STANDARD
TZOFFSETFROM:+0100
TZOFFSETTO:+0000
TZNAME:GMT
DTSTART:20201025T020000Z
RRULE:FREQ=YEARLY;BYMONTH=10;BYDAY=-1SU
END:STANDARD
END:VTIMEZONE
BEGIN:VEVENT
SUMMARY:Feeding the hungry with the Houston Food Bank
DTSTAMP:20200622T153011Z
SEQUENCE:0
UID:203-1-fe5d9c6f9f68e8123e9dcb41013fa255@www.mymilitia.com
ORGANIZER;CN="Guest":mail@mymilit
	ia.com
DESCRIPTION:We are continuing our long partnership with the Houston Food
	 Bank and will be there to process and package meals for Houston's hungry.
DTSTART;VALUE=DATE:20200718
END:VEVENT
END:VCALENDAR
