BEGIN:VCALENDAR
VERSION:2.0
PRODID:-//IP.Board Calendar 4.5.4//EN
METHOD:PUBLISH
CALSCALE:GREGORIAN
X-WR-CALNAME:Community Calendar
BEGIN:VTIMEZONE
TZID:Europe/London
TZURL:http://tzurl.org/zoneinfo/Europe/London
X-LIC-LOCATION:Europe/London
BEGIN:DAYLIGHT
TZOFFSETFROM:+0000
TZOFFSETTO:+0100
TZNAME:BST
DTSTART:20200329T020000Z
RRULE:FREQ=YEARLY;BYMONTH=3;BYDAY=-1SU
END:DAYLIGHT
BEGIN:STANDARD
TZOFFSETFROM:+0100
TZOFFSETTO:+0000
TZNAME:GMT
DTSTART:20201025T020000Z
RRULE:FREQ=YEARLY;BYMONTH=10;BYDAY=-1SU
END:STANDARD
END:VTIMEZONE
BEGIN:VEVENT
SUMMARY:918 open meet and greet
DTSTAMP:20200706T034328Z
SEQUENCE:0
UID:205-1-fe5d9c6f9f68e8123e9dcb41013fa255@www.mymilitia.com
ORGANIZER;CN="Damian Trafton":mail@mymilitia.com
DESCRIPTION:\n	 \n\n\n\n	 \n\n\n\n	I would like to set up a meeting Sa
	turday 25th of July in the Tulsa area.\n\n\n\n	3 pm 1500\n\n\n\n	Location 
	not yet set.\n\n\n\n	 \n\n\n\n	This will be a meet and greet. Contact inf
	o\, history\, relevant skills or certifications and your desire of what yo
	u want to do withen the militia will be requested.  \n\n\n\n	 \n\n\n\n
		I hope to see you all there.\n\n\n\n	 \n\n\n\n	D.E. Trafton\n
DTSTART:20200725T200000Z
END:VEVENT
END:VCALENDAR
