BEGIN:VCALENDAR
VERSION:2.0
PRODID:-//IP.Board Calendar 4.5.4//EN
METHOD:PUBLISH
CALSCALE:GREGORIAN
X-WR-CALNAME:Community Calendar
BEGIN:VTIMEZONE
TZID:Europe/London
TZURL:http://tzurl.org/zoneinfo/Europe/London
X-LIC-LOCATION:Europe/London
BEGIN:DAYLIGHT
TZOFFSETFROM:+0000
TZOFFSETTO:+0100
TZNAME:BST
DTSTART:20200329T020000Z
RRULE:FREQ=YEARLY;BYMONTH=3;BYDAY=-1SU
END:DAYLIGHT
BEGIN:STANDARD
TZOFFSETFROM:+0100
TZOFFSETTO:+0000
TZNAME:GMT
DTSTART:20201025T020000Z
RRULE:FREQ=YEARLY;BYMONTH=10;BYDAY=-1SU
END:STANDARD
END:VTIMEZONE
BEGIN:VEVENT
SUMMARY:Orientation and organizing
DTSTAMP:20200706T164131Z
SEQUENCE:0
UID:207-1-fe5d9c6f9f68e8123e9dcb41013fa255@www.mymilitia.com
ORGANIZER;CN="Dylan Shields":mail@mymilitia.com
DESCRIPTION:\n	My name is Dylan Shields  I am from hall county Georgia 
	and Im sick of the left and after stone mountain where they stormed it wit
	h guns and called us Patriots pussies and babies\, I think we need to orga
	nize and get to know one another to find ways to get more members and crea
	te physical meetings and find  supplies such as mres\,water\,clothes\, tr
	ansportation\,gas\,medicines\,guns\,etc. We will start by texting eachothe
	r and creating a group text of basic name and introduction and schedules i
	n order to create a meeting. My number is 706-314-8447. Text me your name 
	and number and I will add you to the text group. Work on finding more memb
	ers till the meeting. God bless American and God bless you all Patriots!\n
DTSTART:20200707T003000Z
ATTENDEE;CN="Dylan Shields";CUTYPE=INDIVIDUAL;PARTSTAT=ACCEP
	TED:mail@mymilitia.com
END:VEVENT
END:VCALENDAR
