BEGIN:VCALENDAR
VERSION:2.0
PRODID:-//IP.Board Calendar 4.5.4//EN
METHOD:PUBLISH
CALSCALE:GREGORIAN
X-WR-CALNAME:Community Calendar
BEGIN:VTIMEZONE
TZID:Europe/London
TZURL:http://tzurl.org/zoneinfo/Europe/London
X-LIC-LOCATION:Europe/London
BEGIN:DAYLIGHT
TZOFFSETFROM:+0000
TZOFFSETTO:+0100
TZNAME:BST
DTSTART:20200329T020000Z
RRULE:FREQ=YEARLY;BYMONTH=3;BYDAY=-1SU
END:DAYLIGHT
BEGIN:STANDARD
TZOFFSETFROM:+0100
TZOFFSETTO:+0000
TZNAME:GMT
DTSTART:20201025T020000Z
RRULE:FREQ=YEARLY;BYMONTH=10;BYDAY=-1SU
END:STANDARD
END:VTIMEZONE
BEGIN:VEVENT
SUMMARY:1/34 7/25/2020 Kansas Lightfoot 1st Muster
DTSTAMP:20200721T060906Z
SEQUENCE:0
UID:210-1-fe5d9c6f9f68e8123e9dcb41013fa255@www.mymilitia.com
ORGANIZER;CN="Ideological Gambler":mail@mymilitia.com
DESCRIPTION:\n	Due to difficulty finding a range this meeting has moved 
	to Pretty Prairie Kansas.\n\n\n\n	 \n\n\n\n	Location: \n\n\n\n	\n		1399\
	, 1001 E Parallel Rd\, Pretty Prairie\, KS 67570\n	\n\n	\n		 \n	\n\n	\n		
	Time: 1000 hours (10 AM)\n	\n\n	\n		 \n	\n\n	\n		Parking and tags: There 
	is public parking on premisis. A cost free tag is required and obtainable 
	on arrival. \n	\n\n	\n		 \n	\n\n	\n		Subject Matter:\n	\n\n	\n		Introduc
	tory weapons safety class: @ Dale Pittman \n	\n\n	\n		Basic gear considera
	tions: @ Dale Pittman \n	\n\n	\n		 \n	\n\n	\n		Understanding the Constitu
	tion and militias: @ Ideological Gambler \n	\n\n	\n		 \n	\n\n	\n		America
	n militia history @ Ideological Gambler \n	\n\n	\n		 \n	\n\n	\n		 \n	\n\
	n	\n		Over the next week more trainings will be finalized and uploaded.\n	
	\n
DTSTART:20200725T150000Z
ATTENDEE;CN="Ideological Gambler";CUTYPE=INDIVIDUAL;PARTSTAT
	=ACCEPTED:mail@mymilitia.com
END:VEVENT
END:VCALENDAR
