BEGIN:VCALENDAR
VERSION:2.0
PRODID:-//IP.Board Calendar 4.5.4//EN
METHOD:PUBLISH
CALSCALE:GREGORIAN
X-WR-CALNAME:Community Calendar
BEGIN:VTIMEZONE
TZID:Europe/London
TZURL:http://tzurl.org/zoneinfo/Europe/London
X-LIC-LOCATION:Europe/London
BEGIN:DAYLIGHT
TZOFFSETFROM:+0000
TZOFFSETTO:+0100
TZNAME:BST
DTSTART:20200329T020000Z
RRULE:FREQ=YEARLY;BYMONTH=3;BYDAY=-1SU
END:DAYLIGHT
BEGIN:STANDARD
TZOFFSETFROM:+0100
TZOFFSETTO:+0000
TZNAME:GMT
DTSTART:20201025T020000Z
RRULE:FREQ=YEARLY;BYMONTH=10;BYDAY=-1SU
END:STANDARD
END:VTIMEZONE
BEGIN:VEVENT
SUMMARY:Delaware local militia first get together
DTSTAMP:20200722T020431Z
SEQUENCE:0
UID:211-1-fe5d9c6f9f68e8123e9dcb41013fa255@www.mymilitia.com
ORGANIZER;CN="Guest":mail@mymilit
	ia.com
DESCRIPTION:\n	Good day my fellow Patriots\n\n\n\n	 \n\n\n\n	It's time 
	for our group to get engage &amp\; start planning\n\n\n\n	 \n\n\n\n	We sh
	ould introduce ourselves to each other and meet up in person \n\n\n\n	 \
	n\n\n\n	Our group has been dormant for a while\n\n\n\n	But not for long\n\
	n\n\n	 \n\n\n\n	The state of affair in our country can no longer permit J
	ust sitting on our ass and do nothing\n\n\n\n	 \n\n\n\n	We should at leas
	t have a plan on protecting our community and our history\n\n\n\n	 \n\n\n
	\n	We should work with our local police\n\n\n\n	We are not vigilantes\n\n\
	n\n	And we will follow the law and the Constitution\n\n\n\n	 \n\n\n\n	It 
	is obvious there is lack of leadership in our group . actually it's comple
	tely absent \n\n\n\n	 \n\n\n\n	Other than the site manager\n\n\n\n	It do
	esn't seem we have any leadership\n\n\n\n	Or organization in any form\n\n\
	n\n	 \n\n\n\n	We can talk about this when we meet up\n\n\n\n	 \n\n\n\n	I
	'm open to any suggestion as for the location\n\n\n\n	Any park is fine\n\n
	\n\n	 \n\n\n\n	I was thinking of carousel Park\n\n\n\n	Feel free to send 
	any suggestion\n\n\n\n	 \n\n\n\n	The time and date could change as we dis
	cuss\n\n\n\n	 \n\n\n\n	We May have to do this a week later do to short no
	tice\n\n\n\n	 \n\n\n\n	 \n\n\n\n	Thank you \n\n\n\n	 \n\n\n\n	 \n\n\
	n\n	 \n\n\n\n	 \n
DTSTART;VALUE=DATE:20200725
ATTENDEE;CN="Jerry Wiggins II";CUTYPE=INDIVIDUAL;PARTSTAT=AC
	CEPTED:mail@mymilitia.com
END:VEVENT
END:VCALENDAR
