BEGIN:VCALENDAR
VERSION:2.0
PRODID:-//IP.Board Calendar 4.5.4//EN
METHOD:PUBLISH
CALSCALE:GREGORIAN
X-WR-CALNAME:Community Calendar
BEGIN:VTIMEZONE
TZID:Europe/London
TZURL:http://tzurl.org/zoneinfo/Europe/London
X-LIC-LOCATION:Europe/London
BEGIN:DAYLIGHT
TZOFFSETFROM:+0000
TZOFFSETTO:+0100
TZNAME:BST
DTSTART:20200329T020000Z
RRULE:FREQ=YEARLY;BYMONTH=3;BYDAY=-1SU
END:DAYLIGHT
BEGIN:STANDARD
TZOFFSETFROM:+0100
TZOFFSETTO:+0000
TZNAME:GMT
DTSTART:20201025T020000Z
RRULE:FREQ=YEARLY;BYMONTH=10;BYDAY=-1SU
END:STANDARD
END:VTIMEZONE
BEGIN:VEVENT
SUMMARY:Group meetup
DTSTAMP:20200723T195432Z
SEQUENCE:0
UID:213-1-fe5d9c6f9f68e8123e9dcb41013fa255@www.mymilitia.com
ORGANIZER;CN="Guest":mail@mymilit
	ia.com
DESCRIPTION:\n	 \n\n\n\n	Good day my fellow Patriots\n\n\n\n	 \n\n\n\n
		It's time for our group to get engage &amp\; start planning\n\n\n\n	 \n\
	n\n\n	We should introduce ourselves to each other and meet up in person \
	n\n\n\n	 \n\n\n\n	Our group has been dormant for a while\n\n\n\n	But not 
	for long\n\n\n\n	 \n\n\n\n	The state of affair in our country can no long
	er permit Just sitting on our ass and do nothing\n\n\n\n	 \n\n\n\n	We sho
	uld at least have a plan on protecting our community and our history\n\n\n
	\n	 \n\n\n\n	We should work with our local police\n\n\n\n	We are not vigi
	lantes\n\n\n\n	And we will follow the law and the Constitution\n\n\n\n	 \
	n\n\n\n	It is obvious there is lack of leadership in our group . actually 
	it's completely absent \n\n\n\n	 \n\n\n\n	Other than the site manager\n\
	n\n\n	It doesn't seem we have any leadership\n\n\n\n	Or organization in an
	y form\n\n\n\n	 \n\n\n\n	We can talk about this when we meet up\n\n\n\n	
	 \n\n\n\n	I'm open to any suggestion as for the location\n\n\n\n	Any park
	 is fine\n\n\n\n	 \n\n\n\n	I was thinking of carousel Park\n\n\n\n	Feel f
	ree to send any suggestion\n\n\n\n	 \n\n\n\n	The time and date could chan
	ge as we discuss\n\n\n\n	 \n\n\n\n	We May have to do this a week later do
	 to short notice\n\n\n\n	 \n\n\n\n	 \n\n\n\n	Thank you \n
DTSTART:20200725T040000Z
END:VEVENT
END:VCALENDAR
