BEGIN:VCALENDAR
VERSION:2.0
PRODID:-//IP.Board Calendar 4.5.4//EN
METHOD:PUBLISH
CALSCALE:GREGORIAN
X-WR-CALNAME:Community Calendar
BEGIN:VTIMEZONE
TZID:Europe/London
TZURL:http://tzurl.org/zoneinfo/Europe/London
X-LIC-LOCATION:Europe/London
BEGIN:DAYLIGHT
TZOFFSETFROM:+0000
TZOFFSETTO:+0100
TZNAME:BST
DTSTART:20200329T020000Z
RRULE:FREQ=YEARLY;BYMONTH=3;BYDAY=-1SU
END:DAYLIGHT
BEGIN:STANDARD
TZOFFSETFROM:+0100
TZOFFSETTO:+0000
TZNAME:GMT
DTSTART:20201025T020000Z
RRULE:FREQ=YEARLY;BYMONTH=10;BYDAY=-1SU
END:STANDARD
END:VTIMEZONE
BEGIN:VEVENT
SUMMARY:Kansas State Militia 2 field training
DTSTAMP:20200731T011351Z
SEQUENCE:0
UID:217-1-fe5d9c6f9f68e8123e9dcb41013fa255@www.mymilitia.com
ORGANIZER;CN="Ideological Gambler":mail@mymilitia.com
DESCRIPTION:\n	Good morning/Afternoon/evening Patriots!\n\n\n\n	 \n\n\n
	\n	On August 8th we will be meeting out at Melvern lake for this drill. We
	 will rally up just east of the town of Arvonia Kansas at the Sundance Par
	k camping area. Class leaders be Present at 9:30 AM\, We will be forming r
	anks at 10AM SHARP. Basic weapons class will be taught by our S3 (training
	 and operations officer) @ Dale Pittman then we will continue with our day
	s training\, which is explained below along with links to educational reso
	urces for study before hand. \n\n\n\n	 \n\n\n\n	Equipment: wear  Camouf
	lage clothing that you have\, Preferably of military style print. If you o
	nly have the Jacket or trousers then wear what you have. This includes Pat
	rol caps/ Boonie hats. Bring your main weapon and if you have one your sid
	e arm as well as your IFAK. Also bring food as it sucks to train on an emp
	ty stomach. If you have commo bring that as well along with water. There a
	re restrooms on site.\n\n\n\n	 \n\n\n\n	Dale will have signs made to help
	 people find the training area. \n\n\n\n	 \n\n\n\n	\n\n	Drill for 8 Augu
	st 2020\n\n\n\n	Individual movement      \n\n\n\n	      TC3-21
	.75\, Chapter 7\n\n	    Low crawl\n\n	    High crawl\n\n	    R
	ush\n\n\n\n	 \n\n\n\n	Cover\, concealment and camouflage  \n\n\n\n	  
	TC3-21.75\, Chapter 5\n\n\n\n	 \n\n\n\n	Decision making process\n\n\n\n	H
	and and arm signals\n\n\n\n	            TC 3-21.60\, \n\n	
	Communication                \n\n\n\n	 \n\n\n\n	    
	phonetic alphabet \n\n\n\n	https://www.military.com/join-armed-forces/gui
	de-to-the-military-alphabet.html\n\n\n\n	 \n\n\n\n	Medical \n\n\n\n
		          TC 3-21.75\, Chapter 3-26\n\n	    Identify wound
	\n\n	    Treat wound\n\n	    Sucking chest wound\n\n\n\n	 \n\n\n
	\n	IEDs \n\n\n\n	  TC 3-21.75\, Chapter 15\, Section II\n\n	    Vehi
	cle\n\n	    Anti-personnel\n\n	    What to look for\n\n\n\n	 \n\n
	\n\n	Water purification            \n\n	    Field expe
	dient\n\n	    Life straw\, Berkey\n\n\n\n	Publications:\n\n	INFANTRY P
	LATOON AND SQUAD: ATP 3-21.8\n\n\n\n	https://armypubs.army.mil/ProductMaps
	/PubForm/Details.aspx?PUB_ID=106213\n\n\n\n	 \n\n\n\n	The Warrior Ethos a
	nd Soldier Combat Skills: TC 3-21.75\nhttps://armypubs.army.mil/ProductMap
	s/PubForm/Details.aspx?PUB_ID=103242\n\n\n\n	 \n\n\n\n	Soldiers Manual an
	d Trainers Guide: STP 7-11B1-SM-TG\nhttps://armypubs.army.mil/ProductMaps/
	PubForm/Details.aspx?PUB_ID=81529\n\n\n\n	 \n\n\n\n	Soldiers Manual of Co
	mmon Tasks\, Warrior Skills Level 1: STP 21-1-SMCT\n\n\n\n	https://armypub
	s.army.mil/ProductMaps/PubForm/Details.aspx?PUB_ID=1008124\n\n\n\n	 \n\n\
	n\n	Visual Signals: TC 3-21.60\nhttps://armypubs.army.mil/ProductMaps/PubF
	orm/Details.aspx?PUB_ID=1001865\n
DTSTART:20200808T140000Z
ATTENDEE;CN="Ideological Gambler";CUTYPE=INDIVIDUAL;PARTSTAT
	=ACCEPTED:mail@mymilitia.com
END:VEVENT
END:VCALENDAR
