BEGIN:VCALENDAR
VERSION:2.0
PRODID:-//IP.Board Calendar 4.5.4//EN
METHOD:PUBLISH
CALSCALE:GREGORIAN
X-WR-CALNAME:Community Calendar
BEGIN:VTIMEZONE
TZID:Europe/London
TZURL:http://tzurl.org/zoneinfo/Europe/London
X-LIC-LOCATION:Europe/London
BEGIN:DAYLIGHT
TZOFFSETFROM:+0000
TZOFFSETTO:+0100
TZNAME:BST
DTSTART:20200329T020000Z
RRULE:FREQ=YEARLY;BYMONTH=3;BYDAY=-1SU
END:DAYLIGHT
BEGIN:STANDARD
TZOFFSETFROM:+0100
TZOFFSETTO:+0000
TZNAME:GMT
DTSTART:20201025T020000Z
RRULE:FREQ=YEARLY;BYMONTH=10;BYDAY=-1SU
END:STANDARD
END:VTIMEZONE
BEGIN:VEVENT
SUMMARY:Training Event
DTSTAMP:20200805T070220Z
SEQUENCE:0
UID:220-1-fe5d9c6f9f68e8123e9dcb41013fa255@www.mymilitia.com
ORGANIZER;CN="C.junior2012":mail@mymilitia.com
DESCRIPTION:\n	Hey everyone\, I've been getting a group together over 
	the past month to have a tight well organized team on the western slop
	e. I held a range day/bbq last month to get people together and have a go
	od time but we will be holding our first training day for the 22nd of Aug
	ust in Montrose starting at noon. We'll be out past the Montrose landfill.
	 Take landfill road to bostwick park road and we'll be in one of the cove
	s off to the left. We'll have a Gadsden flying at the road on Bostwick pa
	rk road to know what cove we'll be in. I would love if yall could make it
	 out to train with us. Let me know if you've got any questions. \n\n\n\n
		\n
DTSTART:20200822T180000Z
END:VEVENT
END:VCALENDAR
