BEGIN:VCALENDAR
VERSION:2.0
PRODID:-//IP.Board Calendar 4.5.4//EN
METHOD:PUBLISH
CALSCALE:GREGORIAN
X-WR-CALNAME:Community Calendar
BEGIN:VTIMEZONE
TZID:Europe/London
TZURL:http://tzurl.org/zoneinfo/Europe/London
X-LIC-LOCATION:Europe/London
BEGIN:DAYLIGHT
TZOFFSETFROM:+0000
TZOFFSETTO:+0100
TZNAME:BST
DTSTART:20200329T020000Z
RRULE:FREQ=YEARLY;BYMONTH=3;BYDAY=-1SU
END:DAYLIGHT
BEGIN:STANDARD
TZOFFSETFROM:+0100
TZOFFSETTO:+0000
TZNAME:GMT
DTSTART:20201025T020000Z
RRULE:FREQ=YEARLY;BYMONTH=10;BYDAY=-1SU
END:STANDARD
END:VTIMEZONE
BEGIN:VEVENT
SUMMARY:ROLLCENTER Training Event Northeast Colorado
DTSTAMP:20200805T153623Z
SEQUENCE:0
UID:222-1-fe5d9c6f9f68e8123e9dcb41013fa255@www.mymilitia.com
ORGANIZER;CN="C.junior2012":mail@mymilitia.com
DESCRIPTION:\n	The Cross roads are CR 36 and CR 35 South west Section St
	ars and Bars and American Flag  out front Chevy Blue Mailbox mid day gonn
	a be a hot one we can move it to a later date if need be We could have a B
	BQ kids welcome just dont go near the dog \n
DTSTART:20200808T180000Z
END:VEVENT
END:VCALENDAR
