BEGIN:VCALENDAR
VERSION:2.0
PRODID:-//IP.Board Calendar 4.5.4//EN
METHOD:PUBLISH
CALSCALE:GREGORIAN
X-WR-CALNAME:Events
BEGIN:VTIMEZONE
TZID:Europe/London
TZURL:http://tzurl.org/zoneinfo/Europe/London
X-LIC-LOCATION:Europe/London
BEGIN:DAYLIGHT
TZOFFSETFROM:+0000
TZOFFSETTO:+0100
TZNAME:BST
DTSTART:20200329T020000Z
RRULE:FREQ=YEARLY;BYMONTH=3;BYDAY=-1SU
END:DAYLIGHT
BEGIN:STANDARD
TZOFFSETFROM:+0100
TZOFFSETTO:+0000
TZNAME:GMT
DTSTART:20201025T020000Z
RRULE:FREQ=YEARLY;BYMONTH=10;BYDAY=-1SU
END:STANDARD
END:VTIMEZONE
BEGIN:VEVENT
SUMMARY:Meet & Greet
DTSTAMP:20200809T193456Z
SEQUENCE:0
UID:225-263-fe5d9c6f9f68e8123e9dcb41013fa255@www.mymilitia.com
ORGANIZER;CN="Rev.E.":mail@mymilitia.com
DESCRIPTION:\n	We are holding a Meet &amp\; Greet at Harvey's Pistol &am
	p\; Pawn on Saturday. Parking will be across the street from the shop.\n
DTSTART:20200815T203000Z
DTEND:20200815T220000Z
END:VEVENT
END:VCALENDAR
