BEGIN:VCALENDAR
VERSION:2.0
PRODID:-//IP.Board Calendar 4.5.4//EN
METHOD:PUBLISH
CALSCALE:GREGORIAN
X-WR-CALNAME:Community Calendar
BEGIN:VTIMEZONE
TZID:Europe/London
TZURL:http://tzurl.org/zoneinfo/Europe/London
X-LIC-LOCATION:Europe/London
BEGIN:DAYLIGHT
TZOFFSETFROM:+0000
TZOFFSETTO:+0100
TZNAME:BST
DTSTART:20200329T020000Z
RRULE:FREQ=YEARLY;BYMONTH=3;BYDAY=-1SU
END:DAYLIGHT
BEGIN:STANDARD
TZOFFSETFROM:+0100
TZOFFSETTO:+0000
TZNAME:GMT
DTSTART:20201025T020000Z
RRULE:FREQ=YEARLY;BYMONTH=10;BYDAY=-1SU
END:STANDARD
END:VTIMEZONE
BEGIN:VEVENT
SUMMARY:Labor day weekend event hosted by ROLLCENTER
DTSTAMP:20200821T042841Z
SEQUENCE:0
UID:232-1-fe5d9c6f9f68e8123e9dcb41013fa255@www.mymilitia.com
ORGANIZER;CN="C.junior2012":mail@mymilitia.com
DESCRIPTION:\n	this up coming labor day weekend ROLLCENTER will be hosti
	ng a event. meet and greet as well as some training and sharing of skills.
	 He is allowing camping on site tent or RV as well as facilities for cooki
	ng. LRS range up to 860 yards. \n\n
DTSTART:20200905T180000Z
END:VEVENT
END:VCALENDAR
