BEGIN:VCALENDAR
VERSION:2.0
PRODID:-//IP.Board Calendar 4.5.4//EN
METHOD:PUBLISH
CALSCALE:GREGORIAN
X-WR-CALNAME:Events
BEGIN:VTIMEZONE
TZID:Europe/London
TZURL:http://tzurl.org/zoneinfo/Europe/London
X-LIC-LOCATION:Europe/London
BEGIN:DAYLIGHT
TZOFFSETFROM:+0000
TZOFFSETTO:+0100
TZNAME:BST
DTSTART:20200329T020000Z
RRULE:FREQ=YEARLY;BYMONTH=3;BYDAY=-1SU
END:DAYLIGHT
BEGIN:STANDARD
TZOFFSETFROM:+0100
TZOFFSETTO:+0000
TZNAME:GMT
DTSTART:20201025T020000Z
RRULE:FREQ=YEARLY;BYMONTH=10;BYDAY=-1SU
END:STANDARD
END:VTIMEZONE
BEGIN:VEVENT
SUMMARY:Back the Blue
DTSTAMP:20200822T060026Z
SEQUENCE:0
UID:236-237-fe5d9c6f9f68e8123e9dcb41013fa255@www.mymilitia.com
ORGANIZER;CN="Sine Timore":mail@mymilitia.com
DESCRIPTION:\n	This is a rally to back the blue that occurs every Thursd
	ay in Gilbert AZ on the corner of Gilbert and Warner. However yesterday B
	LM showed up in force and taunted Gilbert residents and rally goers. The T
	own turned out in number to stand resolute against their Marxist and anti
	 American Motivation. We will be back Next Thursday again and we see BLM i
	s calling for their side to increase their numbers\, please come out and s
	tand with us. \n\n	 \n\n\n\n	park at the Lowe’s parking lot \n\n\n\n	
	we stand on the NW corner.\n
DTSTART:20200828T030000Z
END:VEVENT
END:VCALENDAR
