BEGIN:VCALENDAR
VERSION:2.0
PRODID:-//IP.Board Calendar 4.5.4//EN
METHOD:PUBLISH
CALSCALE:GREGORIAN
X-WR-CALNAME:Community Calendar
BEGIN:VTIMEZONE
TZID:Europe/London
TZURL:http://tzurl.org/zoneinfo/Europe/London
X-LIC-LOCATION:Europe/London
BEGIN:DAYLIGHT
TZOFFSETFROM:+0000
TZOFFSETTO:+0100
TZNAME:BST
DTSTART:20200329T020000Z
RRULE:FREQ=YEARLY;BYMONTH=3;BYDAY=-1SU
END:DAYLIGHT
BEGIN:STANDARD
TZOFFSETFROM:+0100
TZOFFSETTO:+0000
TZNAME:GMT
DTSTART:20201025T020000Z
RRULE:FREQ=YEARLY;BYMONTH=10;BYDAY=-1SU
END:STANDARD
END:VTIMEZONE
BEGIN:VEVENT
SUMMARY:Basic Comms
DTSTAMP:20200823T182400Z
SEQUENCE:0
UID:239-1-fe5d9c6f9f68e8123e9dcb41013fa255@www.mymilitia.com
ORGANIZER;CN="SeaDragon":mail@mymilitia.com
DESCRIPTION:\n	This is a 2hr study on basic communication. It is directe
	d toward obtaining Technician Class license from FCC. Other topics will be
	 touched on in this area briefly. Location is ne Huntsville\n\n\n\n	 \n\n
	\n\n	Sea Dragon\n\n\n\n	Deplorables Patriots\n\n\n\n	Trainer\n\n\n\n	 \n\
	n\n\n	Ps. The study guide is downloadable.\n\nBasicCommPart2.pdf
DTSTART:20200919T154500Z
END:VEVENT
END:VCALENDAR
