BEGIN:VCALENDAR
VERSION:2.0
PRODID:-//IP.Board Calendar 4.5.4//EN
METHOD:PUBLISH
CALSCALE:GREGORIAN
X-WR-CALNAME:Events
BEGIN:VTIMEZONE
TZID:Europe/London
TZURL:http://tzurl.org/zoneinfo/Europe/London
X-LIC-LOCATION:Europe/London
BEGIN:DAYLIGHT
TZOFFSETFROM:+0000
TZOFFSETTO:+0100
TZNAME:BST
DTSTART:20200329T020000Z
RRULE:FREQ=YEARLY;BYMONTH=3;BYDAY=-1SU
END:DAYLIGHT
BEGIN:STANDARD
TZOFFSETFROM:+0100
TZOFFSETTO:+0000
TZNAME:GMT
DTSTART:20201025T020000Z
RRULE:FREQ=YEARLY;BYMONTH=10;BYDAY=-1SU
END:STANDARD
END:VTIMEZONE
BEGIN:VEVENT
SUMMARY:Meet & Greet
DTSTAMP:20200826T171000Z
SEQUENCE:0
UID:243-326-fe5d9c6f9f68e8123e9dcb41013fa255@www.mymilitia.com
ORGANIZER;CN="Rev.E.":mail@mymilitia.com
DESCRIPTION:\n	19th Tn. Infantry\n\n	Meet &amp\; Greet\n\n	Sept. 12th\, 
	3 pm\n\n	Harvey's Pistol &amp\; Pawn\n\n	5305 Clinton Plaza Dr\, Knoxville
	\, TN 37912\n
DTSTART:20200912T190000Z
DTEND:20200912T203000Z
END:VEVENT
END:VCALENDAR
