BEGIN:VCALENDAR
VERSION:2.0
PRODID:-//IP.Board Calendar 4.5.4//EN
METHOD:PUBLISH
CALSCALE:GREGORIAN
X-WR-CALNAME:Community Calendar
BEGIN:VTIMEZONE
TZID:Europe/London
TZURL:http://tzurl.org/zoneinfo/Europe/London
X-LIC-LOCATION:Europe/London
BEGIN:DAYLIGHT
TZOFFSETFROM:+0000
TZOFFSETTO:+0100
TZNAME:BST
DTSTART:20200329T020000Z
RRULE:FREQ=YEARLY;BYMONTH=3;BYDAY=-1SU
END:DAYLIGHT
BEGIN:STANDARD
TZOFFSETFROM:+0100
TZOFFSETTO:+0000
TZNAME:GMT
DTSTART:20201025T020000Z
RRULE:FREQ=YEARLY;BYMONTH=10;BYDAY=-1SU
END:STANDARD
END:VTIMEZONE
BEGIN:VEVENT
SUMMARY:Meet and shoot at Calverton
DTSTAMP:20200831T032513Z
SEQUENCE:0
UID:246-1-fe5d9c6f9f68e8123e9dcb41013fa255@www.mymilitia.com
ORGANIZER;CN="Bulldog":mail@mymilitia.com
DESCRIPTION:\n	We are meeting at calvertom to see who can shoot and how 
	well you shoot this is important please bring your plate carriers and any 
	other protective gear you have \n
DTSTART:20201010T150000Z
ATTENDEE;CN="B22";CUTYPE=INDIVIDUAL;PARTSTAT=ACCEPTED:mail@m
	ymilitia.com
END:VEVENT
END:VCALENDAR
