BEGIN:VCALENDAR
VERSION:2.0
PRODID:-//IP.Board Calendar 4.5.4//EN
METHOD:PUBLISH
CALSCALE:GREGORIAN
X-WR-CALNAME:Community Calendar
BEGIN:VTIMEZONE
TZID:Europe/London
TZURL:http://tzurl.org/zoneinfo/Europe/London
X-LIC-LOCATION:Europe/London
BEGIN:DAYLIGHT
TZOFFSETFROM:+0000
TZOFFSETTO:+0100
TZNAME:BST
DTSTART:20200329T020000Z
RRULE:FREQ=YEARLY;BYMONTH=3;BYDAY=-1SU
END:DAYLIGHT
BEGIN:STANDARD
TZOFFSETFROM:+0100
TZOFFSETTO:+0000
TZNAME:GMT
DTSTART:20201025T020000Z
RRULE:FREQ=YEARLY;BYMONTH=10;BYDAY=-1SU
END:STANDARD
END:VTIMEZONE
BEGIN:VEVENT
SUMMARY:Let's Talk About Liberty And Freedom!
DTSTAMP:20200910T010546Z
SEQUENCE:0
UID:251-1-fe5d9c6f9f68e8123e9dcb41013fa255@www.mymilitia.com
ORGANIZER;CN="LetFreedomRing":mail@mymilitia.com
DESCRIPTION:\n	Let's talk about liberty and freedom with My Militia site
	 owner and American Revolution 2.0 founder Josh Ellis on the Black and Rig
	ht radio show\, co-guest Attorney Thomas DeVore!\n\n\n\n	We will be linkin
	g to the audio stream in this thread Saturday September 12th 1-3 PM Centra
	l.\n\n\n\n	 \n\n\n\n\n	 \n\n\n\n	 \n\n\n\n	\n\n\n	 \n\n\n\n	 \n
DTSTART:20200912T170000Z
DTEND:20200912T190000Z
END:VEVENT
END:VCALENDAR
