BEGIN:VCALENDAR
VERSION:2.0
PRODID:-//IP.Board Calendar 4.5.4//EN
METHOD:PUBLISH
CALSCALE:GREGORIAN
X-WR-CALNAME:Community Calendar
BEGIN:VTIMEZONE
TZID:Europe/London
TZURL:http://tzurl.org/zoneinfo/Europe/London
X-LIC-LOCATION:Europe/London
BEGIN:DAYLIGHT
TZOFFSETFROM:+0000
TZOFFSETTO:+0100
TZNAME:BST
DTSTART:20200329T020000Z
RRULE:FREQ=YEARLY;BYMONTH=3;BYDAY=-1SU
END:DAYLIGHT
BEGIN:STANDARD
TZOFFSETFROM:+0100
TZOFFSETTO:+0000
TZNAME:GMT
DTSTART:20201025T020000Z
RRULE:FREQ=YEARLY;BYMONTH=10;BYDAY=-1SU
END:STANDARD
END:VTIMEZONE
BEGIN:VEVENT
SUMMARY:Meet and Greet
DTSTAMP:20200926T073819Z
SEQUENCE:0
UID:260-1-fe5d9c6f9f68e8123e9dcb41013fa255@www.mymilitia.com
ORGANIZER;CN="TheRev1776":mail@mymilitia.com
DESCRIPTION:\n	Meet and greet for Individuals interested in talking\, in
	formation\, training\, leadership\, ect. \n\n	 \n\n\n\n	Anthem coffee.
	 11102 Sunrise Blvd E #111\, Puyallup\, WA 98374\n\n
DTSTART:20201003T210000Z
ATTENDEE;CN="TheRev1776";CUTYPE=INDIVIDUAL;PARTSTAT=ACCEPTED
	:mail@mymilitia.com
END:VEVENT
END:VCALENDAR
