BEGIN:VCALENDAR
VERSION:2.0
PRODID:-//IP.Board Calendar 4.5.4//EN
METHOD:PUBLISH
CALSCALE:GREGORIAN
X-WR-CALNAME:Community Calendar
BEGIN:VTIMEZONE
TZID:Europe/London
TZURL:http://tzurl.org/zoneinfo/Europe/London
X-LIC-LOCATION:Europe/London
BEGIN:DAYLIGHT
TZOFFSETFROM:+0000
TZOFFSETTO:+0100
TZNAME:BST
DTSTART:20200329T020000Z
RRULE:FREQ=YEARLY;BYMONTH=3;BYDAY=-1SU
END:DAYLIGHT
BEGIN:STANDARD
TZOFFSETFROM:+0100
TZOFFSETTO:+0000
TZNAME:GMT
DTSTART:20201025T020000Z
RRULE:FREQ=YEARLY;BYMONTH=10;BYDAY=-1SU
END:STANDARD
END:VTIMEZONE
BEGIN:VEVENT
SUMMARY:FreeKyle Rally Oct 9th 9am CT Lake County Courthouse - Ameri
	can Revolution 2.0
DTSTAMP:20201001T033005Z
SEQUENCE:0
UID:266-1-fe5d9c6f9f68e8123e9dcb41013fa255@www.mymilitia.com
ORGANIZER;CN="LetFreedomRing":mail@mymilitia.com
DESCRIPTION:\n	FreeKyle Rally Oct 9th 9am CT Lake County Courthouse - Am
	erican Revolution 2.0\n\n\n\n	 \n\n\n\n	\n		\n	\n\n\n\n	 \n
DTSTART:20201009T130000Z
END:VEVENT
END:VCALENDAR
