BEGIN:VCALENDAR
VERSION:2.0
PRODID:-//IP.Board Calendar 4.5.4//EN
METHOD:PUBLISH
CALSCALE:GREGORIAN
X-WR-CALNAME:Community Calendar
BEGIN:VTIMEZONE
TZID:Europe/London
TZURL:http://tzurl.org/zoneinfo/Europe/London
X-LIC-LOCATION:Europe/London
BEGIN:DAYLIGHT
TZOFFSETFROM:+0000
TZOFFSETTO:+0100
TZNAME:BST
DTSTART:20190331T020000Z
RRULE:FREQ=YEARLY;BYMONTH=3;BYDAY=-1SU
END:DAYLIGHT
BEGIN:STANDARD
TZOFFSETFROM:+0100
TZOFFSETTO:+0000
TZNAME:GMT
DTSTART:20191027T020000Z
RRULE:FREQ=YEARLY;BYMONTH=10;BYDAY=-1SU
END:STANDARD
END:VTIMEZONE
BEGIN:VEVENT
SUMMARY:Texas State Militia : Houston - New Member Meeting
DTSTAMP:20181229T232144Z
SEQUENCE:0
UID:48-1-fe5d9c6f9f68e8123e9dcb41013fa255@www.mymilitia.com
ORGANIZER;CN="My Militia":mail@mymilitia.com
DESCRIPTION:Brotherhood begins here with good food\, good stories\, and 
	like-minded purpose. \n\nNew members and old are invited to come Wednesday
	\, Feb 20th to Spring Creek Barbeque for a chance to meet with TSM Houston
	 command staff and eat BBQ. \n\nAt this relaxed event\, new members will o
	fficially report present\, hear TSM's mission statement\, policiesand trai
	ning schedule\, as well as meet the group.\n\nCurrent Members can look for
	ward to Patching and Rank Ceremonies if they are qualified.
DTSTART:20190221T010000Z
DTEND:20190221T030000Z
END:VEVENT
END:VCALENDAR
