BEGIN:VCALENDAR
VERSION:2.0
PRODID:-//IP.Board Calendar 4.5.4//EN
METHOD:PUBLISH
CALSCALE:GREGORIAN
X-WR-CALNAME:Community Calendar
BEGIN:VTIMEZONE
TZID:Europe/London
TZURL:http://tzurl.org/zoneinfo/Europe/London
X-LIC-LOCATION:Europe/London
BEGIN:DAYLIGHT
TZOFFSETFROM:+0000
TZOFFSETTO:+0100
TZNAME:BST
DTSTART:20180325T020000Z
RRULE:FREQ=YEARLY;BYMONTH=3;BYDAY=-1SU
END:DAYLIGHT
BEGIN:STANDARD
TZOFFSETFROM:+0100
TZOFFSETTO:+0000
TZNAME:GMT
DTSTART:20181028T020000Z
RRULE:FREQ=YEARLY;BYMONTH=10;BYDAY=-1SU
END:STANDARD
END:VTIMEZONE
BEGIN:VEVENT
SUMMARY:NY Militia™ Community Open House
DTSTAMP:20180317T133320Z
SEQUENCE:0
UID:5-1-fe5d9c6f9f68e8123e9dcb41013fa255@www.mymilitia.com
ORGANIZER;CN="Guest":mail@mymilit
	ia.com
DESCRIPTION:\n\n	NYM™ Capital Region Open House\n\n	(Open to the Publi
	c)\n\n	Followed by 5th Regiment March 2018 Classroom- Session B\n\n	(Membe
	rs and Cadets Only Event)\n\n\n\n	INFO: This is a Community Open House and
	 Information Briefing. The gathering will kick-off at 13:00 in the second-
	floor meeting room at the Fox Run leasing office (Entrance around the back
	 adjacent the pool area).\n\n\n\n	NOTE: The 5th Regiment closed meeting an
	d training for NYM™ members and cadets only will immediately follow the 
	Open House (approx. 14:30).\n\n\n\n	Not a member? Get your application in 
	ASAP.  Apply via www.facebook.com/newyorkmilitia/jobs and for more inform
	ation about the New York Militia™\, visit our site at www.nymilitia.com\
	,\n\n\n\n	Call or Email the NYM™ Leadership:\n\n	518-316-1696\n\n	info@n
	ymilitia.com\n\n\n\n	*Arrive early so we can conduct a roll call and revie
	w of the agenda. Meeting kicks off at 13:00.*\n\n\n\n	 \n\n\n\n	https://w
	ww.facebook.com/events/786086444925806/?ti=as\n\n
DTSTART:20180318T164500Z
DTEND:20180318T183000Z
END:VEVENT
END:VCALENDAR
