BEGIN:VCALENDAR
VERSION:2.0
PRODID:-//IP.Board Calendar 4.5.4//EN
METHOD:PUBLISH
CALSCALE:GREGORIAN
X-WR-CALNAME:Community Calendar
BEGIN:VTIMEZONE
TZID:Europe/London
TZURL:http://tzurl.org/zoneinfo/Europe/London
X-LIC-LOCATION:Europe/London
BEGIN:DAYLIGHT
TZOFFSETFROM:+0000
TZOFFSETTO:+0100
TZNAME:BST
DTSTART:20180325T020000Z
RRULE:FREQ=YEARLY;BYMONTH=3;BYDAY=-1SU
END:DAYLIGHT
BEGIN:STANDARD
TZOFFSETFROM:+0100
TZOFFSETTO:+0000
TZNAME:GMT
DTSTART:20181028T020000Z
RRULE:FREQ=YEARLY;BYMONTH=10;BYDAY=-1SU
END:STANDARD
END:VTIMEZONE
BEGIN:VEVENT
SUMMARY:Houston Food Bank - Volunteering
DTSTAMP:20181229T232144Z
SEQUENCE:0
UID:51-1-fe5d9c6f9f68e8123e9dcb41013fa255@www.mymilitia.com
ORGANIZER;CN="My Militia":mail@mymilitia.com
DESCRIPTION:Please join your TSM brothers and sisters as we help at the 
	Houston Food Bank during a very important time of the year. We will be wor
	kingin the warehouse sorting food donations and other tasks as assigned. F
	amily members are encouraged to attend\, but please make sure to fill out 
	the forms accordingly.\n\n\nPlease follow the link below to register for t
	his event\n\nhttp://houstonfoodbank.civicore.com/index.php?section=indGpRe
	gistrations&amp\;action=conditional&amp\;fwID=39846\n\n\n\nThe Houston Foo
	d Bank utilizes volunteers six days a week at their Main Warehouse. Whethe
	r you come out as an individual or part of a group\, we are certain you wi
	ll have an enjoyable\, positive experience. 
DTSTART:20181201T140000Z
DTEND:20181201T180000Z
END:VEVENT
END:VCALENDAR
